BEGIN:VCALENDAR
VERSION:2.0
PRODID:-//Religión y Escuela - ECPv6.15.12.2//NONSGML v1.0//EN
CALSCALE:GREGORIAN
METHOD:PUBLISH
X-WR-CALNAME:Religión y Escuela
X-ORIGINAL-URL:https://www.religionyescuela.com
X-WR-CALDESC:Eventos para Religión y Escuela
REFRESH-INTERVAL;VALUE=DURATION:PT1H
X-Robots-Tag:noindex
X-PUBLISHED-TTL:PT1H
BEGIN:VTIMEZONE
TZID:Europe/Madrid
BEGIN:DAYLIGHT
TZOFFSETFROM:+0100
TZOFFSETTO:+0200
TZNAME:CEST
DTSTART:20250330T010000
END:DAYLIGHT
BEGIN:STANDARD
TZOFFSETFROM:+0200
TZOFFSETTO:+0100
TZNAME:CET
DTSTART:20251026T010000
END:STANDARD
BEGIN:DAYLIGHT
TZOFFSETFROM:+0100
TZOFFSETTO:+0200
TZNAME:CEST
DTSTART:20260329T010000
END:DAYLIGHT
BEGIN:STANDARD
TZOFFSETFROM:+0200
TZOFFSETTO:+0100
TZNAME:CET
DTSTART:20261025T010000
END:STANDARD
BEGIN:DAYLIGHT
TZOFFSETFROM:+0100
TZOFFSETTO:+0200
TZNAME:CEST
DTSTART:20270328T010000
END:DAYLIGHT
BEGIN:STANDARD
TZOFFSETFROM:+0200
TZOFFSETTO:+0100
TZNAME:CET
DTSTART:20271031T010000
END:STANDARD
END:VTIMEZONE
BEGIN:VEVENT
DTSTART;VALUE=DATE:20260419
DTEND;VALUE=DATE:20260420
DTSTAMP:20260419T175840
CREATED:20240403T113722Z
LAST-MODIFIED:20260226T101005Z
UID:14252-1776556800-1776643199@www.religionyescuela.com
SUMMARY:Día de los Padrinos y las Madrinas
DESCRIPTION:El tercer domingo de abril se celebra el Día de los Padrinos y las Madrinas para reivindicar el papel que cumple esta figura en las vidas de los niños y niñas de todo el mundo. \nEllos\, los padrinos y madrinas\, con su amor y ejemplo\, contribuyen a fortalecer las bases educativas\, familiares\, sociales y religiosas de las generaciones del futuro. \nInformación: \n\n¿Dónde se origina el término padrino o madrina?\n¿Por qué se celebra el Día de los Padrinos y Madrinas?\n¿Cuáles son las funciones que desempeñan los padrinos y las madrinas?\n¿Qué expectativas tienen los padres al elegir los futuros padrinos?\n¿Cómo celebrar el Día de los Padrinos y las Madrinas?\nEl rol de los padrinos en la vida de los niños\nEl rol de los padrinos\nEl papel del padrino y la madrina\n\n 
URL:https://www.religionyescuela.com/evento/dia-de-los-padrinos-y-las-madrinas/
CATEGORIES:Eventos,Material
ATTACH;FMTTYPE=image/jpeg:https://www.religionyescuela.com/wp-content/uploads/2024/04/bautismo-21.jpg
END:VEVENT
END:VCALENDAR