BEGIN:VCALENDAR
VERSION:2.0
PRODID:-//Religión y Escuela - ECPv6.15.12.2//NONSGML v1.0//EN
CALSCALE:GREGORIAN
METHOD:PUBLISH
X-ORIGINAL-URL:https://www.religionyescuela.com
X-WR-CALDESC:Eventos para Religión y Escuela
REFRESH-INTERVAL;VALUE=DURATION:PT1H
X-Robots-Tag:noindex
X-PUBLISHED-TTL:PT1H
BEGIN:VTIMEZONE
TZID:Europe/Madrid
BEGIN:DAYLIGHT
TZOFFSETFROM:+0100
TZOFFSETTO:+0200
TZNAME:CEST
DTSTART:20240331T010000
END:DAYLIGHT
BEGIN:STANDARD
TZOFFSETFROM:+0200
TZOFFSETTO:+0100
TZNAME:CET
DTSTART:20241027T010000
END:STANDARD
BEGIN:DAYLIGHT
TZOFFSETFROM:+0100
TZOFFSETTO:+0200
TZNAME:CEST
DTSTART:20250330T010000
END:DAYLIGHT
BEGIN:STANDARD
TZOFFSETFROM:+0200
TZOFFSETTO:+0100
TZNAME:CET
DTSTART:20251026T010000
END:STANDARD
BEGIN:DAYLIGHT
TZOFFSETFROM:+0100
TZOFFSETTO:+0200
TZNAME:CEST
DTSTART:20260329T010000
END:DAYLIGHT
BEGIN:STANDARD
TZOFFSETFROM:+0200
TZOFFSETTO:+0100
TZNAME:CET
DTSTART:20261025T010000
END:STANDARD
END:VTIMEZONE
BEGIN:VEVENT
DTSTART;TZID=Europe/Madrid:20250617T080000
DTEND;TZID=Europe/Madrid:20250619T170000
DTSTAMP:20260420T083007
CREATED:20250305T171503Z
LAST-MODIFIED:20250305T171503Z
UID:15733-1750147200-1750352400@www.religionyescuela.com
SUMMARY:XXI Jornadas de Teología Fundamental de España y Portugal
DESCRIPTION:Desde hace más de 40 años\, fieles a su compromiso bienal\, se celebran las XXI Jornadas de Teología Fundamental de España y Portugal. En ellas\, los profesores de la materia de los Centros Teológicos de la Península ibérica toman el pulso al contexto social y religioso\, así como a las interpelaciones hacia el quehacer académico de la Teología Fundamental.\nLas presentes Jornadas tendrán como título: «Dios desafiado: memoria\, experiencia y futuro»\, donde\, a la luz del 1700 aniversario del Concilio de Nicea\, se auscultarán las posibilidades del anuncio del Dios trinitario en el actual contexto plurirreligioso y postsecular.\n\nLas Jornadas se desarrollarán entre los días 17 y 19 de junio de 2025\, en la Universidad de Deusto (Bilbao).\nLas ponencias que jalonarán la reflexión tendrán estos temas y ponentes:\n\n\nHablar de Dios a 1700 años del Concilio de Nicea. Ángel Cordovilla\, Universidad Pontificia Comillas.\n\n\nEl Dios trinitario ante las nuevas espiritualidades. João Duque\, Universidad Católica Portuguesa.\n\n\nEl Dios cristiano en un mundo de pluralismo religioso. Juan Antonio Estrada\, Universidad de Granada.\n\n\n\nPara más información\, posibilidades de asistencia e inscripción\, pueden consultar los siguientes\ndocumentos \n.\n\n\nComisión Organizadora: \nVicente Vide Rodríguez (Universidad de Deusto)\nManuel Reus Canals\, SJ\, (Universidad de Deusto)\nFernando Joven Álvarez\, OSA(Centro de Estudio Teológico Agustiniano de Valladolid)\nSantiago García Mourelo (Universidad Pontificia Comillas)
URL:https://www.religionyescuela.com/evento/xxi-jornadas-de-teologia-fundamental-de-espana-y-portugal/
CATEGORIES:Eventos,Formación
END:VEVENT
END:VCALENDAR