BEGIN:VCALENDAR
VERSION:2.0
PRODID:-//Religión y Escuela - ECPv6.15.12.2//NONSGML v1.0//EN
CALSCALE:GREGORIAN
METHOD:PUBLISH
X-WR-CALNAME:Religión y Escuela
X-ORIGINAL-URL:https://www.religionyescuela.com
X-WR-CALDESC:Eventos para Religión y Escuela
REFRESH-INTERVAL;VALUE=DURATION:PT1H
X-Robots-Tag:noindex
X-PUBLISHED-TTL:PT1H
BEGIN:VTIMEZONE
TZID:Europe/Madrid
BEGIN:DAYLIGHT
TZOFFSETFROM:+0100
TZOFFSETTO:+0200
TZNAME:CEST
DTSTART:20250330T010000
END:DAYLIGHT
BEGIN:STANDARD
TZOFFSETFROM:+0200
TZOFFSETTO:+0100
TZNAME:CET
DTSTART:20251026T010000
END:STANDARD
BEGIN:DAYLIGHT
TZOFFSETFROM:+0100
TZOFFSETTO:+0200
TZNAME:CEST
DTSTART:20260329T010000
END:DAYLIGHT
BEGIN:STANDARD
TZOFFSETFROM:+0200
TZOFFSETTO:+0100
TZNAME:CET
DTSTART:20261025T010000
END:STANDARD
BEGIN:DAYLIGHT
TZOFFSETFROM:+0100
TZOFFSETTO:+0200
TZNAME:CEST
DTSTART:20270328T010000
END:DAYLIGHT
BEGIN:STANDARD
TZOFFSETFROM:+0200
TZOFFSETTO:+0100
TZNAME:CET
DTSTART:20271031T010000
END:STANDARD
END:VTIMEZONE
BEGIN:VEVENT
DTSTART;VALUE=DATE:20260108
DTEND;VALUE=DATE:20260109
DTSTAMP:20260419T222624
CREATED:20251029T121322Z
LAST-MODIFIED:20251029T121322Z
UID:17037-1767830400-1767916799@www.religionyescuela.com
SUMMARY:Introducción práctica a la IA: herramientas para transformar el aula de religión (AMRA)
DESCRIPTION:Modalidad\nVirtual\nECTS\n40 Horas\nCalendario\n\nCurso a distancia\, de ámbito regional.\nDel 12 de enero al 13 de marzo de 2026\n40 horas de duración.\nProfesora: Cristina Sánchez\nDirigida a maestros y profesores de religión\, de educación infantil\, primaria\, secundaria\, y bachillerato.\n30 plazas disponibles.\n\n \nPrecio\n\nEl precio por curso es de 40 €. Se puede tramitar la matrícula en nuestra página web: https://matricules.iscreb.org/\nLos asociados tendrán una bonificación de 5€ por cada curso superado.\nLa matriculación de los dos cursos de AMRA – ISCREB se bonifica con un 25 % de descuento. Será preciso indicar en el apartado de observaciones que se ha realizado la matrícula a ambos cursos para aplicar el descuento.\n\nMatrícula\n\nLa matrícula se abrirá a partir del 1 de julio del 2025 y se cerrará una semana antes de empezar el curso.\nEl precio por curso es de 40 €. Se puede tramitar la matrícula en nuestra página web: https://matricules.iscreb.org/\nLos asociados tendrán una bonificación de 5€ por cada curso superado.\nLa matriculación de los dos cursos de AMRA – ISCREB se bonifica con un 25 % de descuento. Será preciso indicar en el apartado de observaciones que se ha realizado la matrícula a ambos cursos para aplicar el descuento\n\nMás información en: https://www.iscreb.org/es/formacio/linies-formatives/introduccion-practica-la-ia-herramientas-para-transformar-el-aula-de
URL:https://www.religionyescuela.com/evento/introduccion-practica-a-la-ia-herramientas-para-transformar-el-aula-de-religion-amra/
CATEGORIES:Formación
END:VEVENT
BEGIN:VEVENT
DTSTART;VALUE=DATE:20260130
DTEND;VALUE=DATE:20260131
DTSTAMP:20260419T222624
CREATED:20240206T221619Z
LAST-MODIFIED:20250922T094410Z
UID:13784-1769731200-1769817599@www.religionyescuela.com
SUMMARY:Día Escolar de la No Violencia y la Paz
DESCRIPTION:El 30 de enero se celebra el Día de la Paz y la No violencia en todos los centros educativos recordando\, una vez más\, la importancia de vivir en un mundo en paz.\n  \nAnte la necesidad imperiosa de vivir en un mundo en paz\, donde diariamente nos llegan noticias de conflictos armados\, hechos violentos\, bullying o fomento de la violencia desde las redes sociales\, algunos incluso muy cercanos o en nuestra propia localidad o barrio\, debemos plantearlo como un problema serio en nuestra sociedad y realizar una reflexión profunda desde nuestras aulas. \n  \nBien está que se realicen actividades para conocer en qué consiste la paz\, sus símbolos\, por qué se celebra el 30 de enero\, biografías de personajes importantes para la búsqueda de la Paz o premios Nobel de la Paz\, etc.\, pero de nada sirve si no se provoca la necesidad en nuestro alumnado de vivir en paz\, de buscar la paz\, como indica una de las bienaventuranzas. El hacer de la Paz un ideal para sus propias vidas. \n  \nÉste debe ser el gran objetivo de la celebración de este día: tener la necesidad de buscar la paz desde nuestros actos de cada día. \n  \nY no es cuestión de acceso a materiales y actividades. En una búsqueda en la Red\, por ejemplo: “recursos para el día de la paz”\, nos aparecen 76.000.000 de resultados. Pero la utilización de dichos recursos no deben quedar en colorear una ficha\, ver un video o responder a unas preguntas sobre un texto\, debemos (y sabemos) dotarlos de significado didáctico dentro del modelo educativo actual fundamentado en el desarrollo de las competencias. \n  \nEsta línea es la que asume UNICEF\, por ejemplo\, en su propuesta de actividades para el Día de la Paz (https://www.unicef.es/educa/blog/2627/actividades-para-celebrar-el-dia-de-la-paz): crear un mapa de paz (escuelas de paz)\, trabajar los símbolos de la paz (para Infantil o primeros cursos de Primaria)\, la Vacuna del Buen Trato cuyo objetivo es permitir a los estudiantes encontrar soluciones a los problemas de violencia que encuentran en su entorno; con los materiales educativos A salvo en la escuela. Aprendiendo en entornos protectores que abordan la violencia desde el enfoque de la educación en la paz\, la no violencia y el buen trato\, y los Derechos de Infancia o su propuesta de actividades por etapas. \n  \nEn el aula… \n  \nSiempre es adecuado comenzar la sesión de clase con actividades motivadoras y que contextualice el tema a trabajar\, en este caso sobre la paz. Podemos acudir a presentaciones\, por ejemplo: https://www.orientacionandujar.es/2012/01/22/presentaciones-para-el-dia-de-la-paz-editables-2; o videos\, como este vídeo educativo promovido por la ONGD SED: https://youtu.be/zQUQAxfGlTY o este otro del canal de Pablo J. Díaz Tenza: https://youtu.be/MuGHroroa4k (en la red encontrará muchos más ejemplos)\, incluso canciones\, imágenes de celebraciones del día de la paz\, etc. \n  \nPodemos continuar con un debate\, lluvia de ideas sobre el tema\, etc. ¿Por qué no plantear la rutina de pensamiento qué sé\, qué quiero saber y qué he aprendido? Y planteamos un reto o realizar un producto (dependiendo de la etapa o nivel educativo): ¿hacemos frases para fomentar la paz y las colocamos en los pasillos de nuestro centro? ¿mensajes “publicitarios”? ¿Juegos\, carreras solidarias\, gymkanas\, lip dub\, coreografías\, etc.? Para ello\, seguro nos sirven las ideas que proponen muchas plataformas o webs educativas\, como https://www.educaciontrespuntocero.com/recursos/dia-escolar-no-violencia-paz/ o https://www.orientacionandujar.es/2011/01/25/1001-materiales-enlaces-y-documentos-para-trabajar-el-dia-de-la-paz/ \n  \nComo instrumentos de evaluación podemos utilizara recursos gamificados\, como juegos interactivos estilo Kahoot (https://profesoradoreligion.blogspot.com/2024/01/magnifico-kahoot-para-el-dia-de-la-paz.html) o Genial.ly (https://profesoradoreligion.blogspot.com/2023/01/6-magificos-genially-para-el-dia-de-la.html) \n  \nLos Nobel de la paz a nuestro alrededor \nOtra opción es trabajar con las biografías de personajes famosos por luchar por la paz o premios Nobel de la Paz y\, como forma de aplicarlos a nuestra vida y contexto\, proponer una candidatura a los premios escolares de la paz. Podemos elaborar pequeñas biografías donde también se expresen los motivos por los que consideramos que esos compañeros-as de clase\, colegio o localidad\, asociaciones\, ONG de nuestro entorno\, etc.\, son merecedores de tan especial galardón. \n  \nTodo ello supone un trabajo de investigación siguiendo una metodología de trabajo cooperativo. \nExponemos las candidaturas elaboradas y se eligen por votación… ¿Le damos realmente un diploma o reconocimiento por sus méritos? \nFinalizamos con una valoración del trabajo realizado y el producto final mediante algún debate\, grupos de trabajo\, coevaluación\, listas de cotejo\, etc. \n¿Y si publicamos las candidaturas\, evento y ganadores en la web del centro escolar? ¿Lo enviamos a un periódico local? Recuerda que debe tener un buen titular… \nAlgunos recursos:\n\n\nVídeo: Celebración escolar de la Paz y la No Violencia\nOrigen del Día Escolar de la No Violencia y de la Paz\n¿Por qué es tan necesario un Día Escolar de la Paz y la No Violencia?\nRecursos para la paz\nValores que promueve el Día Escolar de la Paz y la No Violencia\n¿Cómo fomentar la paz y la no violencia en las escuelas?\nRecursos para trabajar la paz en el aula\nPelículas sobre la paz en el ámbito escolar\n¿Cómo se celebra el Día Escolar de la No Violencia y de la Paz?\nRecursos para el día escolar de la paz\nhttps://www.educastur.es/efemerides-enero17-escolarpaz\nDía Escolar de la Paz y la No Violencia\nCelebra el Día Escolar de la No Violencia y la Paz (30 de enero) con estos recursos\nDía Escolar de la No-violencia y la Paz (DENIP / DENYP)\nDía Escolar de la No Violencia – UNICEF (materiales)\nRecursos del blog del Profesorado de Religión para la paz: 1 – 2– 3
URL:https://www.religionyescuela.com/evento/dia-de-la-paz-y-la-no-violencia/
CATEGORIES:Eventos,Formación
END:VEVENT
END:VCALENDAR