BEGIN:VCALENDAR
VERSION:2.0
PRODID:-//Religión y Escuela - ECPv6.15.12.2//NONSGML v1.0//EN
CALSCALE:GREGORIAN
METHOD:PUBLISH
X-ORIGINAL-URL:https://www.religionyescuela.com
X-WR-CALDESC:Eventos para Religión y Escuela
REFRESH-INTERVAL;VALUE=DURATION:PT1H
X-Robots-Tag:noindex
X-PUBLISHED-TTL:PT1H
BEGIN:VTIMEZONE
TZID:Europe/Madrid
BEGIN:DAYLIGHT
TZOFFSETFROM:+0100
TZOFFSETTO:+0200
TZNAME:CEST
DTSTART:20250330T010000
END:DAYLIGHT
BEGIN:STANDARD
TZOFFSETFROM:+0200
TZOFFSETTO:+0100
TZNAME:CET
DTSTART:20251026T010000
END:STANDARD
BEGIN:DAYLIGHT
TZOFFSETFROM:+0100
TZOFFSETTO:+0200
TZNAME:CEST
DTSTART:20260329T010000
END:DAYLIGHT
BEGIN:STANDARD
TZOFFSETFROM:+0200
TZOFFSETTO:+0100
TZNAME:CET
DTSTART:20261025T010000
END:STANDARD
BEGIN:DAYLIGHT
TZOFFSETFROM:+0100
TZOFFSETTO:+0200
TZNAME:CEST
DTSTART:20270328T010000
END:DAYLIGHT
BEGIN:STANDARD
TZOFFSETFROM:+0200
TZOFFSETTO:+0100
TZNAME:CET
DTSTART:20271031T010000
END:STANDARD
END:VTIMEZONE
BEGIN:VEVENT
DTSTART;VALUE=DATE:20260303
DTEND;VALUE=DATE:20260304
DTSTAMP:20260419T192718
CREATED:20250207T091548Z
LAST-MODIFIED:20260226T100219Z
UID:15623-1772496000-1772582399@www.religionyescuela.com
SUMMARY:Jornadas de pastoral
DESCRIPTION:Más información en: https://www.escuelascatolicas.es/jornadas-de-pastoral-2025-26/
URL:https://www.religionyescuela.com/evento/xx-jornada-de-reflexion-de-la-religion-en-la-escuela/
CATEGORIES:Eventos,Formación
ATTACH;FMTTYPE=image/jpeg:https://www.religionyescuela.com/wp-content/uploads/2025/02/CARTEL-JORNADA-2025_001.jpg
END:VEVENT
BEGIN:VEVENT
DTSTART;VALUE=DATE:20260314
DTEND;VALUE=DATE:20260315
DTSTAMP:20260419T192718
CREATED:20250312T094745Z
LAST-MODIFIED:20260109T122732Z
UID:15763-1773446400-1773532799@www.religionyescuela.com
SUMMARY:VIII Premio de ensayo teológico joven
DESCRIPTION:Como cada año\, la editorial PPC convoca el Premio de Ensayo Teológico Joven PPC\, con el objetivo de descubrir y dar a conocer a autores emergentes del ámbito teológico que puedan tener más proyección de cara al futuro. \nObjetivo del concurso\nEl objetivo de PPC es responder a la constitución apostólica del papa Francisco Veritatis gaudium para la renovación de los estudios teológicos\, alentando los cuatro criterios expuestos en ella: Contemplación e introducción espiritual\, intelectual y existencial en el Evangelio; diálogo para promover una cultura del encuentro; búsqueda de la transdisciplinariedad y necesidad de crear redes entre las diferentes instituciones relacionadas con la teología. \n\n\n\n\n\n\n\n\n\n\n\n\n\n\n\n\n\n\n \n\n\n\n\n\n\n\n\n\n\n\n\n\n\n\n\n\n\n\n\n\n\n\n\n\n\n\n\n\n\n\n\n\n\n\n\n\n\n\n\n\n\n\nComo cada año\, la editorial PPC convoca el Premio de Ensayo Teológico Joven PPC\, con el objetivo de descubrir y dar a conocer a autores emergentes del ámbito teológico que puedan tener más proyección de cara al futuro. \nObjetivo del concurso\nEl objetivo de PPC es responder a la constitución apostólica del papa Francisco Veritatis gaudium para la renovación de los estudios teológicos\, alentando los cuatro criterios expuestos en ella: Contemplación e introducción espiritual\, intelectual y existencial en el Evangelio; diálogo para promover una cultura del encuentro; búsqueda de la transdisciplinariedad y necesidad de crear redes entre las diferentes instituciones relacionadas con la teología. \n\n\n\n\n\n\n\n\n\n\n\n\n\n\n\n\n\n\n \n\n\n\n\n\n\n\n\n\n\n\n\n\n\n\n\n\n\n\n\n\n\n\n\n\n\n\n\n\n\n\n\n\n\n\n\n\n\n\n\n\n\n\nComo cada año\, la editorial PPC convoca el Premio de Ensayo Teológico Joven PPC\, con el objetivo de descubrir y dar a conocer a autores emergentes del ámbito teológico que puedan tener más proyección de cara al futuro. \nObjetivo del concurso\nEl objetivo de PPC es responder a la constitución apostólica del papa Francisco Veritatis gaudium para la renovación de los estudios teológicos\, alentando los cuatro criterios expuestos en ella: Contemplación e introducción espiritual\, intelectual y existencial en el Evangelio; diálogo para promover una cultura del encuentro; búsqueda de la transdisciplinariedad y necesidad de crear redes entre las diferentes instituciones relacionadas con la teología. \n\n\n\n\n\n\n\n\n\n\n\n\n\n\n \nComo cada año\, la editorial PPC convoca el Premio de Ensayo Teológico Joven PPC\, con el objetivo de descubrir y dar a conocer a autores emergentes del ámbito teológico que puedan tener más proyección de cara al futuro. \nInformación y bases aquí: https://www.ppc-editorial.com/premio-ensayo-teologico-joven-ppc
URL:https://www.religionyescuela.com/evento/viii-premio-de-ensayo-teologico-joven/
CATEGORIES:Eventos,Formación
END:VEVENT
END:VCALENDAR