BEGIN:VCALENDAR
VERSION:2.0
PRODID:-//Religión y Escuela - ECPv6.15.12.2//NONSGML v1.0//EN
CALSCALE:GREGORIAN
METHOD:PUBLISH
X-WR-CALNAME:Religión y Escuela
X-ORIGINAL-URL:https://www.religionyescuela.com
X-WR-CALDESC:Eventos para Religión y Escuela
REFRESH-INTERVAL;VALUE=DURATION:PT1H
X-Robots-Tag:noindex
X-PUBLISHED-TTL:PT1H
BEGIN:VTIMEZONE
TZID:Europe/Madrid
BEGIN:DAYLIGHT
TZOFFSETFROM:+0100
TZOFFSETTO:+0200
TZNAME:CEST
DTSTART:20240331T010000
END:DAYLIGHT
BEGIN:STANDARD
TZOFFSETFROM:+0200
TZOFFSETTO:+0100
TZNAME:CET
DTSTART:20241027T010000
END:STANDARD
BEGIN:DAYLIGHT
TZOFFSETFROM:+0100
TZOFFSETTO:+0200
TZNAME:CEST
DTSTART:20250330T010000
END:DAYLIGHT
BEGIN:STANDARD
TZOFFSETFROM:+0200
TZOFFSETTO:+0100
TZNAME:CET
DTSTART:20251026T010000
END:STANDARD
BEGIN:DAYLIGHT
TZOFFSETFROM:+0100
TZOFFSETTO:+0200
TZNAME:CEST
DTSTART:20260329T010000
END:DAYLIGHT
BEGIN:STANDARD
TZOFFSETFROM:+0200
TZOFFSETTO:+0100
TZNAME:CET
DTSTART:20261025T010000
END:STANDARD
END:VTIMEZONE
BEGIN:VEVENT
DTSTART;VALUE=DATE:20250701
DTEND;VALUE=DATE:20250704
DTSTAMP:20260420T083013
CREATED:20240603T082016Z
LAST-MODIFIED:20250505T105506Z
UID:14790-1751328000-1751587199@www.religionyescuela.com
SUMMARY:VII Espacio Verano Sur (AMRA - ISCREB)
DESCRIPTION:Modalidad\nPresencial\nCalendario\n1\, 2 y 3 de julio de 2025 \nLugar: Granada\, Residencia Xior (Campus Universitario de Cartuja) \nInscripción:  A través de la web del Instituto Superior de Ciencias Religiosas: www.inscreb.org \n\nDel 21 de abril al 23 de junio\n\n \nPrecio\nOpción básica: 80 € (incluye matrícula\, materiales\, café y camiseta) \nOpción completa: 210 € (todo incluido: alojamiento en pensión completa\, matrícula\, materiales\, camiseta y cena especial en el Carmen de los Mártires) \n???? Descuentos disponibles del 21 de abril al 21 de mayo:\nAsociados: 40 € de descuento \nResto de participantes: 20€ de descuento\nRecuerda aplicar el descuento al realizar el ingreso \n⚠️ Importante: Dado que se han adelantado varios pagos\, en caso de cancelación no se podrá devolver el importe íntegro de la inscripción\, descontando los gastos ya asumidos por la organización. \nMatrícula\n\nLas matrículas ya están abiertas y se cerrarán una semana antes de empezar la formación.\nSe pueden tramitar mediante la página web: MATRÍCULA\nLas plazas se asignan por riguroso orden de pago. El número máximo de participantes será de 100.\nNúmero de cuenta: ES61 3023 0049 3766 6830 9302 – CAJA RURAL GRANADA\nPor último\, es necesario enviar un justificante de pago a: espacioveranogranada@gmail.com\n\nMás info en: https://www.iscreb.org/es/formacio/linies-formatives/vii-espacio-verano-sur-de-espana-para-educadores-en-la-fe \n 
URL:https://www.religionyescuela.com/evento/vi-espacio-verano-sur-amra-iscreb/
CATEGORIES:Eventos,Formación
END:VEVENT
END:VCALENDAR