BEGIN:VCALENDAR
VERSION:2.0
PRODID:-//Religión y Escuela - ECPv6.15.12.2//NONSGML v1.0//EN
CALSCALE:GREGORIAN
METHOD:PUBLISH
X-ORIGINAL-URL:https://www.religionyescuela.com
X-WR-CALDESC:Eventos para Religión y Escuela
REFRESH-INTERVAL;VALUE=DURATION:PT1H
X-Robots-Tag:noindex
X-PUBLISHED-TTL:PT1H
BEGIN:VTIMEZONE
TZID:Europe/Madrid
BEGIN:DAYLIGHT
TZOFFSETFROM:+0100
TZOFFSETTO:+0200
TZNAME:CEST
DTSTART:20240331T010000
END:DAYLIGHT
BEGIN:STANDARD
TZOFFSETFROM:+0200
TZOFFSETTO:+0100
TZNAME:CET
DTSTART:20241027T010000
END:STANDARD
BEGIN:DAYLIGHT
TZOFFSETFROM:+0100
TZOFFSETTO:+0200
TZNAME:CEST
DTSTART:20250330T010000
END:DAYLIGHT
BEGIN:STANDARD
TZOFFSETFROM:+0200
TZOFFSETTO:+0100
TZNAME:CET
DTSTART:20251026T010000
END:STANDARD
BEGIN:DAYLIGHT
TZOFFSETFROM:+0100
TZOFFSETTO:+0200
TZNAME:CEST
DTSTART:20260329T010000
END:DAYLIGHT
BEGIN:STANDARD
TZOFFSETFROM:+0200
TZOFFSETTO:+0100
TZNAME:CET
DTSTART:20261025T010000
END:STANDARD
END:VTIMEZONE
BEGIN:VEVENT
DTSTART;VALUE=DATE:20251004
DTEND;VALUE=DATE:20251005
DTSTAMP:20260420T042400
CREATED:20250929T122110Z
LAST-MODIFIED:20250929T122110Z
UID:16931-1759536000-1759622399@www.religionyescuela.com
SUMMARY:La religión en la política a debate en el39º Foro relixión e cultura en Galicia
DESCRIPTION:¿Qué lugar ocupa hoy la religión en el espacio público? ¿Cómo influyen las referencias bíblicas en discursos políticos y decisiones colectivas? Estas preguntas marcarán el eje del 39º Foro Relixión e Culturaen Galicia\, que se celebrará el sábado 4 de octubre de 2025 de 10:15 a 18:30 h en el Salón de Actos de la Compañía de María (Santiago de Compostela). \nOrganizado por la revista Encrucillada\, este encuentro anual se ha consolidado como un referente para el diálogo entre fe\, cultura y sociedad. La edición de este año lleva por título «O lugar da Relixiónna Política» y reunirá a especialistas de distintos ámbitos para analizar las complejas intersecciones entre creencias religiosas y dinámicas políticas contemporáneas. \nLa jornada se abrirá con la presentación de Clara Baliñas Vidal\, seguida de dos ponencias matinales. En primer lugar\, Xosé Luís Barreiro Rivas abordará «O discurso relixiosona política»\, sobre el uso del lenguaje religioso en los debates públicos actuales. A continuación\, intervendrá el biblista Rafael Aguirre Monasterio\, con la conferencia «Utilización política da Bíblia»\, inspirada en su obra La utilización política de la Biblia (Editorial Verbo Divino). \nEl análisis de Aguirre adquiere especial relevancia en el contexto internacional actual. En Oriente Próximo\, el prolongado genocidio contra la población palestina en Gaza se justifica\, en parte\, mediante lecturas selectivas de textos bíblicos y narrativas religiosas que legitiman políticas de ocupación y violencia. Del mismo modo\, en Estados Unidos\, el entorno político de Donald Trump ha recurrido reiteradamente a pasajes bíblicos y símbolos cristianos para cohesionar apoyos\, moldear discursos identitarios y presentar su liderazgo como una «misión providencial». Estos ejemplos muestran cómo la Biblia sigue siendo una herramienta poderosa en la arena política global. \nPor la tarde\, Serxio María Rodríguez Álvarez ofrecerá la conferencia «Proposta política da Fratelli Tutti»\, centrada en la dimensión social de la encíclica del papa Francisco. La jornada concluirá con una lectura comentada de Alba de Gloria\, de Castelao\, como cierre cultural y simbólico. \nEl foro se presenta así como una cita ineludible para comprender cómo la religión\, lejos de desaparecer del debate público\, continúa configurando discursos y decisiones en escenarios de enorme trascendencia política.
URL:https://www.religionyescuela.com/evento/la-religion-en-la-politica-a-debate-en-el39o-foro-relixion-e-cultura-en-galicia/
CATEGORIES:Eventos,Formación
END:VEVENT
END:VCALENDAR