BEGIN:VCALENDAR
VERSION:2.0
PRODID:-//Religión y Escuela - ECPv6.15.12.2//NONSGML v1.0//EN
CALSCALE:GREGORIAN
METHOD:PUBLISH
X-ORIGINAL-URL:https://www.religionyescuela.com
X-WR-CALDESC:Eventos para Religión y Escuela
REFRESH-INTERVAL;VALUE=DURATION:PT1H
X-Robots-Tag:noindex
X-PUBLISHED-TTL:PT1H
BEGIN:VTIMEZONE
TZID:Europe/Madrid
BEGIN:DAYLIGHT
TZOFFSETFROM:+0100
TZOFFSETTO:+0200
TZNAME:CEST
DTSTART:20250330T010000
END:DAYLIGHT
BEGIN:STANDARD
TZOFFSETFROM:+0200
TZOFFSETTO:+0100
TZNAME:CET
DTSTART:20251026T010000
END:STANDARD
BEGIN:DAYLIGHT
TZOFFSETFROM:+0100
TZOFFSETTO:+0200
TZNAME:CEST
DTSTART:20260329T010000
END:DAYLIGHT
BEGIN:STANDARD
TZOFFSETFROM:+0200
TZOFFSETTO:+0100
TZNAME:CET
DTSTART:20261025T010000
END:STANDARD
BEGIN:DAYLIGHT
TZOFFSETFROM:+0100
TZOFFSETTO:+0200
TZNAME:CEST
DTSTART:20270328T010000
END:DAYLIGHT
BEGIN:STANDARD
TZOFFSETFROM:+0200
TZOFFSETTO:+0100
TZNAME:CET
DTSTART:20271031T010000
END:STANDARD
END:VTIMEZONE
BEGIN:VEVENT
DTSTART;TZID=Europe/Madrid:20260416T080000
DTEND;TZID=Europe/Madrid:20260417T170000
DTSTAMP:20260419T192841
CREATED:20250318T121831Z
LAST-MODIFIED:20260226T095618Z
UID:15794-1776326400-1776445200@www.religionyescuela.com
SUMMARY:Congreso Internacional de Creatividad Educativa y Estrategias de Dirección
DESCRIPTION:Acude al Congreso Internacional de Creatividad Educativa y Estrategias de Dirección\, los días 16 y 17 de abril\, y te invitamos a un afterwork al concluir las ponencias. \n\n\nAsistencia al Congreso BRAINING\n16 y 17 de abril en Ateneo Mercantil de Valencia\nOs invitamos a ti y a los representantes de tu colegio a participar de este congreso internacional y de su valiosa aportación al éxito de los centros escolares. Para ello\, te aportamos un código específico\, con el que recibiréis un descuento soportado por ACADEMICA y mediante el cual podréis obtener las entradas que preciséis al precio de 115 euros cada una. \n Sobre el código descuento:\nAcademica abonará directamente a BRAINING el descuento aplicado por cada entrada emitida bajo el código ACADEMCBX para representantes de los Colegios adheridos a Academica en España. Con este código\, el asistente tiene derecho a adquirir las entradas de acceso al congreso por un importe de 115 € / unidad.  \nCÓDIGO: ACADEMCBX \nEste código no es aplicable junto a otros códigos o ventajas y es ÚNICAMENTE aplicable a nuevas entradas obtenidas a partir de su entrada en vigor. Este código no es aplicable ni otorga ningún derecho sobre entradas obtenidas con anterioridad\, ni permite ningún abono o reintegro de las mismas. \nInscripciones al Congreso BRAINING \n\n\n\n\nInvitación a Afterwork\n16 de abril en el Ateneo Mercantil de Valencia\nVen a disfrutar de un momento distendido entre compañeros y colegas de profesión\, en el afterwork ofrecido por ACADEMICA después de la jornada de ponencias.
URL:https://www.religionyescuela.com/evento/congreso-internacional-de-creatividad-educativa-y-estrategias-de-direccion/
CATEGORIES:Eventos,Formación
END:VEVENT
END:VCALENDAR