BEGIN:VCALENDAR
VERSION:2.0
PRODID:-//Religión y Escuela - ECPv6.15.12.2//NONSGML v1.0//EN
CALSCALE:GREGORIAN
METHOD:PUBLISH
X-WR-CALNAME:Religión y Escuela
X-ORIGINAL-URL:https://www.religionyescuela.com
X-WR-CALDESC:Eventos para Religión y Escuela
REFRESH-INTERVAL;VALUE=DURATION:PT1H
X-Robots-Tag:noindex
X-PUBLISHED-TTL:PT1H
BEGIN:VTIMEZONE
TZID:Europe/Madrid
BEGIN:DAYLIGHT
TZOFFSETFROM:+0100
TZOFFSETTO:+0200
TZNAME:CEST
DTSTART:20240331T010000
END:DAYLIGHT
BEGIN:STANDARD
TZOFFSETFROM:+0200
TZOFFSETTO:+0100
TZNAME:CET
DTSTART:20241027T010000
END:STANDARD
BEGIN:DAYLIGHT
TZOFFSETFROM:+0100
TZOFFSETTO:+0200
TZNAME:CEST
DTSTART:20250330T010000
END:DAYLIGHT
BEGIN:STANDARD
TZOFFSETFROM:+0200
TZOFFSETTO:+0100
TZNAME:CET
DTSTART:20251026T010000
END:STANDARD
BEGIN:DAYLIGHT
TZOFFSETFROM:+0100
TZOFFSETTO:+0200
TZNAME:CEST
DTSTART:20260329T010000
END:DAYLIGHT
BEGIN:STANDARD
TZOFFSETFROM:+0200
TZOFFSETTO:+0100
TZNAME:CET
DTSTART:20261025T010000
END:STANDARD
END:VTIMEZONE
BEGIN:VEVENT
DTSTART;VALUE=DATE:20250815
DTEND;VALUE=DATE:20250816
DTSTAMP:20260421T224842
CREATED:20240606T093228Z
LAST-MODIFIED:20250505T104911Z
UID:14829-1755216000-1755302399@www.religionyescuela.com
SUMMARY:Asunción de la Virgen
DESCRIPTION:Asunción de la Virgen – Historia\nEl día de la Asunción de la Virgen conmemora el momento en que la vida terrenal de María asciende en cuerpo y alma a la gloria de Dios. Aunque en la Biblia no aparece de manera explícita este hecho\, la tradición y la Iglesia católica lo reconocen\, tanto formal como implícitamente. María es Asunta como una consecuencia de la unión que se da en su vientre entre la naturaleza humana y la divina. María es llena de Gracia por ser la Madre de Dios y por su especial relación como Madre del Hijo de Dios\, siendo carne de su carne\, que la hace partícipe de su vida eterna. Es una fiesta no solo de los católicos sino también de las iglesias apostólicas y la ortodoxa. Se celebra cada 15 de agosto. \n\n\n\n\nAsunción de la Virgen – Datos y Frases Célebres\n\nLa Asunción de la Virgen es celebrada tanto en las iglesias de oriente como de occidente\, y fue definido dogma por Pío XII el 1 de noviembre de 1950. Los testimonios más antiguos sobre la celebración de esta fe datan de los primeros cinco siglos de la Iglesia\, y de padres de la Iglesia -como San Ambrosio\, San Epifanio\, y Timoteo de Jerusalén-. Desde entonces ha sido una tradición ininterrumpida. La Virgen María Asunta es patrona de diversas poblaciones en Iberoamérica\, en particular dentro de España\, México\, Guatemala\, Nicaragua y Paraguay. Asunción\, la capital de Paraguay\, debe su nombre a ella\, quien es su patrona.\nUna importante referencia bíblica para la asunción de María es el siguiente versículo del Apocalipsis: Una gran señal apareció en el cielo: una mujer revestida del sol\, la luna bajo los pies y en la cabeza una corona de doce estrellas. (Apocalipsis 12\, 1). Las Iglesias apostólicas reconocen que esa mujer que se menciona es María asunta.\nEl pasaje del Apocalipsis presenta la visión de la lucha entre la mujer y el dragón. La figura de la mujer\, que representa a la Iglesia\, aparece por una parte gloriosa\, triunfante\, y por otra con dolores. Así es en efecto la Iglesia: si en el Cielo ya participa de la gloria de su Señor\, en la historia vive continuamente las pruebas y desafíos que comporta el conflicto entre Dios y el maligno\, el enemigo de siempre. En esta lucha que los discípulos de Jesús han de sostener – todos nosotros\, todos los discípulos de Jesús debemos sostener esta lucha–\, María no les deja solos (…) María\, por el contrario\, nos acompaña\, lucha con nosotros\, sostiene a los cristianos en el combate contra las fuerzas del mal – Homilía del Papa Francisco\, Castel Gandolfo-Italia\, 15/08/2013.\nLa Santísima Virgen María\, cumplido el curso de su vida terrena\, fue llevada en cuerpo y alma a la gloria del cielo\, en donde ella participa ya en la gloria de la resurrección de su Hijo\, anticipando la resurrección de todos los miembros de su Cuerpo (Catecismo de la Iglesia Católica\, 974).\n¿Cómo sirve María? En primer lugar\, indicándoles a los hombres su destino eterno y\, por eso\, desde esa luz de los cielos\, iluminar la dignidad del hombre\, los derechos del hombre\, y por eso se aferra con tanto empeño en defender la dignidad\, la libertad\, los derechos del hombre\, porque sabe que ese hombre no debe ser un juguete de la tierra\, sino que está destinado como María al reino de los cielos\, que es un hijo de Dios que peregrina en esta tierra pero que su destino no es esta tierra. Y ése es el gran servicio de la Iglesia\, en primer lugar\, como María en cuerpo y alma en el cielo\, decirles a todos los espíritus y a todos los cuerpos el alto destino de la humanidad – Beato Monseñor Romero\, Arzobispo y mártir de San Salvador\, Homilía en la Fiesta de la Asunción\, San Salvador\, 15/08/1977.\n\n\n\n\n\nAsunción de la Virgen – Eventos Importantes y Cosas Para Hacer\n\nEn la capital paraguaya se realiza una procesión que va por agua y tierra desde la Bahía de Asunción hasta la catedral. También que se exhiben Jineteadas\, desfiles de caballos donde el jinete se sostiene sobre el animal por varios segundos.\nEn Valle de Panchoy\, poblado guatemalteco\, de donde la Asunción es patrona\, se celebra la Feria de Jocotenango. Un evento familiar de artesanías\, comidas\, música\, actividades infantiles\, entre otros. También son tradicionales las fiestas patronales de ciudad de Guatemala\, donde se cantan serenatas a la Virgen.\nEn México son populares las fiestas patronales de: Azcapotzalco\, Milpa Alta\, Cupilco y Tacotalpa. Se festeja con música\, danzas típicas\, juegos pirotécnicos\, ferias\, conciertos de campanas\, entre otras actividades.\nEn España son muy pintorescas las fiestas de: Araya\, Bermeo\, Busturia\, Ceánuri\, Cenarruza\, Echano\, Elche\, Guecho\, Guernica\, Laredo\, Lemóniz\, Molina de Segura\, Palma de Mallorca y las procesiones en Sevilla.\nLa Asunción de la Virgen es celebrada a nivel mundial por todos los católicos con misas\, procesiones\, ofrendas florales\, cantos corales y otros actos ceremoniales. Es una buena oportunidad para acercarte a la catedral de tu localidad.\n\n\n\nAsunción de la Virgen – Referencias y Sitios Relacionados\nElenco de recursos para trabajar la Asunción\nwww.vatican.va: Vatican \n\nservicioskoinonia.org: servicioskoinonia.org
URL:https://www.religionyescuela.com/evento/asuncion-de-la-virgen/
CATEGORIES:Santoral
ATTACH;FMTTYPE=image/jpeg:https://www.religionyescuela.com/wp-content/uploads/2024/06/virgen-ffc86e0c1.jpeg
END:VEVENT
END:VCALENDAR