BEGIN:VCALENDAR
VERSION:2.0
PRODID:-//Religión y Escuela - ECPv6.15.12.2//NONSGML v1.0//EN
CALSCALE:GREGORIAN
METHOD:PUBLISH
X-WR-CALNAME:Religión y Escuela
X-ORIGINAL-URL:https://www.religionyescuela.com
X-WR-CALDESC:Eventos para Religión y Escuela
REFRESH-INTERVAL;VALUE=DURATION:PT1H
X-Robots-Tag:noindex
X-PUBLISHED-TTL:PT1H
BEGIN:VTIMEZONE
TZID:Europe/Madrid
BEGIN:DAYLIGHT
TZOFFSETFROM:+0100
TZOFFSETTO:+0200
TZNAME:CEST
DTSTART:20240331T010000
END:DAYLIGHT
BEGIN:STANDARD
TZOFFSETFROM:+0200
TZOFFSETTO:+0100
TZNAME:CET
DTSTART:20241027T010000
END:STANDARD
BEGIN:DAYLIGHT
TZOFFSETFROM:+0100
TZOFFSETTO:+0200
TZNAME:CEST
DTSTART:20250330T010000
END:DAYLIGHT
BEGIN:STANDARD
TZOFFSETFROM:+0200
TZOFFSETTO:+0100
TZNAME:CET
DTSTART:20251026T010000
END:STANDARD
BEGIN:DAYLIGHT
TZOFFSETFROM:+0100
TZOFFSETTO:+0200
TZNAME:CEST
DTSTART:20260329T010000
END:DAYLIGHT
BEGIN:STANDARD
TZOFFSETFROM:+0200
TZOFFSETTO:+0100
TZNAME:CET
DTSTART:20261025T010000
END:STANDARD
END:VTIMEZONE
BEGIN:VEVENT
DTSTART;VALUE=DATE:20250905
DTEND;VALUE=DATE:20250906
DTSTAMP:20260421T203744
CREATED:20240901T070014Z
LAST-MODIFIED:20250505T104848Z
UID:12601-1757030400-1757116799@www.religionyescuela.com
SUMMARY:Santa Teresa de Calcuta
DESCRIPTION:En la ciudad de Calcuta\, en la India\, Santa Teresa (Inés) Gonhxa Bojaxhiu\, virgen\, que\, nacida en Albania\, trató de apagar la sed de Cristo clavado en la cruz atendiendo con eximia caridad a los hermanos más pobres\, y fundó las congregaciones de Misioneros y Misioneras de la Caridad\, para servir a los enfermos y abandonados († 1997). \nFecha de beatificación: 19 de octubre de 2003\, por S.S. Juan Pablo II\nFecha de canonización: 4 de septiembre de 2016 por S.S. Francisco \nRecursos para trabajar su figura en el aula: \n\nBiografía\nBiografía\, infografía y frases famosas\nPágina oficial del centro Madre Teresa\nUnidad didáctica: La semilla de la caridad\nCuaderno sobre la Madre Teresa de Calcuta\nJuegos sobre la Madre Teresa de Calcuta\nCómo trabajar el personaje en clase\nFichas sobre Teresa de Calcuta\nPara colorear\nTríptico de Santa Teresa de Calcuta\n\n 
URL:https://www.religionyescuela.com/evento/santa-teresa-de-calcuta/
CATEGORIES:Santoral
ATTACH;FMTTYPE=image/jpeg:https://www.religionyescuela.com/wp-content/uploads/2023/09/madreteresa-418551.jpg
END:VEVENT
BEGIN:VEVENT
DTSTART;VALUE=DATE:20250929
DTEND;VALUE=DATE:20250930
DTSTAMP:20260421T203744
CREATED:20240929T120749Z
LAST-MODIFIED:20241120T104511Z
UID:12635-1759104000-1759190399@www.religionyescuela.com
SUMMARY:Santos Arcángeles: San Miguel\, San Gabriel y San Rafael.
DESCRIPTION:Cada 29 de septiembre la Iglesia celebra la fiesta de los Santos Arcángeles Miguel\, Rafael y Gabriel. Sus nombres están grabados en el alma de los cristianos de todos los tiempos en virtud a su grandeza espiritual y al papel que les tocó -y toca- desempeñar en la historia de la Salvación. Los tres aparecen mencionados en la Sagrada Escritura\, cada uno llevando a cabo misiones muy importantes\, encomendadas por Dios. \nMiguel significa “Quién como Dios”. \nSan Miguel es uno de los siete arcángeles y está entre los tres cuyos nombres aparecen en la Biblia: Miguel\, Gabriel y Rafael. La Santa Iglesia da a San Miguel el más alto lugar entre los arcángeles y le llama “Príncipe de los espíritus celestiales”\, “jefe o cabeza de la milicia celestial”. En el Antiguo Testamento aparece como el gran defensor del pueblo de Israel contra el demonio\, y su poderosa defensa continúa en el Nuevo Testamento (Apocalipsis 12\,7-9):”Entonces se entabló una batalla en el cielo: Miguel y sus Angeles combatieron con el Dragón. También el dragón y sus ángeles combatieron pero no prevalecieron y no hubo ya en cielo lugar para ellos. Y fue arrojado el gran Dragón\, la serpiente antigua\, el llamado Diablo y Satanás\, el seductor del mundo entero”.\nEs por eso venerado como guardián de la Iglesia. \n  \nRecursos para el aula o pastoral: \n\nSus nombres\nLos 3 Arcángeles\, los únicos cuyos nombres constan en la Biblia\nSan Miguel\, Gabriel y Rafael\nRecursos pastorales\, arcángeles San Miguel\, San Gabriel y San Rafael\nCuéntale a los más pequeños quiénes son los santos arcángeles con estas caricaturas descargables\nLos santos arcángeles para colorear\nTríptico de Santos Arcángeles Gabriel-Miguel-Rafael\nSan Miguel\, Gabriel y Rafael: una iconografía de leyenda\nNo todos los ángeles son iguales: el arte así lo plasma\nEl tema de los ángeles además de ser un elemento motivador entre nuestro alumnado\, nos abre a «otros mundos» y a la vida espiritual. Trabajar estos temas en el aula seguro que ofrece posibilidades y experiencias didáccticas múltiples. Es habitual que se trate en clase\, como podemos observar en este material que nos ofrecen desde Canarias: https://www3.gobiernodecanarias.org/medusa/ecoblog/jmhergare/2013/09/08/san-miguel-arcangel/\nPodemos obtener información en fuentes fiables de organizaciones eclesiales\, como en https://www.aciprensa.com/noticias/7-cosas-que-tal-vez-no-sabias-de-los-santos-arcangeles-64368 \nO incluso desde otros puntos de vista e interpretación más originales: https://opusdei.org/es-co/article/los-arcangeles-miguel-gabriel-y-rafael\nPreviamente a esta información\, podríamos plantear la rutina de pensamiento KWL (ver: http://rutinasymetodologia.blogspot.com/2015/11/kwl-know-want-learn.html)y completarla con la documentación aportada anteriormente.
URL:https://www.religionyescuela.com/evento/12635/
CATEGORIES:Santoral
ATTACH;FMTTYPE=image/webp:https://www.religionyescuela.com/wp-content/uploads/2023/09/Arcangeles_29Septiembre1.webp
END:VEVENT
END:VCALENDAR