BEGIN:VCALENDAR
VERSION:2.0
PRODID:-//Religión y Escuela - ECPv6.15.12.2//NONSGML v1.0//EN
CALSCALE:GREGORIAN
METHOD:PUBLISH
X-WR-CALNAME:Religión y Escuela
X-ORIGINAL-URL:https://www.religionyescuela.com
X-WR-CALDESC:Eventos para Religión y Escuela
REFRESH-INTERVAL;VALUE=DURATION:PT1H
X-Robots-Tag:noindex
X-PUBLISHED-TTL:PT1H
BEGIN:VTIMEZONE
TZID:Europe/Madrid
BEGIN:DAYLIGHT
TZOFFSETFROM:+0100
TZOFFSETTO:+0200
TZNAME:CEST
DTSTART:20240331T010000
END:DAYLIGHT
BEGIN:STANDARD
TZOFFSETFROM:+0200
TZOFFSETTO:+0100
TZNAME:CET
DTSTART:20241027T010000
END:STANDARD
BEGIN:DAYLIGHT
TZOFFSETFROM:+0100
TZOFFSETTO:+0200
TZNAME:CEST
DTSTART:20250330T010000
END:DAYLIGHT
BEGIN:STANDARD
TZOFFSETFROM:+0200
TZOFFSETTO:+0100
TZNAME:CET
DTSTART:20251026T010000
END:STANDARD
BEGIN:DAYLIGHT
TZOFFSETFROM:+0100
TZOFFSETTO:+0200
TZNAME:CEST
DTSTART:20260329T010000
END:DAYLIGHT
BEGIN:STANDARD
TZOFFSETFROM:+0200
TZOFFSETTO:+0100
TZNAME:CET
DTSTART:20261025T010000
END:STANDARD
END:VTIMEZONE
BEGIN:VEVENT
DTSTART;VALUE=DATE:20251101
DTEND;VALUE=DATE:20251102
DTSTAMP:20260421T164315
CREATED:20231005T083308Z
LAST-MODIFIED:20250511T160932Z
UID:12771-1761955200-1762041599@www.religionyescuela.com
SUMMARY:Día de Todos los Santos
DESCRIPTION:Hoy\, primero de noviembre se celebra la fiesta de Todos los Santos. Para toda la Iglesia es una gran celebración porque hay gran fiesta en el cielo. Para nosotros es una gran oportunidad de agradecer todos los beneficios\, todas las gracias que Dios ha derramado en personas que han vivido en esta tierra y que han sido como nosotros\, con las mismas debilidades\, y con las fortalezas que vienen del mismo Dios. Celebremos este día con un corazón agradecido\, porque Dios ha estado grande con nosotros y estamos alegres. \n  \nRecursos: \n\n¿Por qué se celebra?\nRecursos para la festividad de todos los santos y difuntos\nElenco en Twinkl\nWordwall\, día de todos los santos\nWordwall\, todos los santos\nRecursos gratuitos para celebrar el Día de Todos los Santos\nPresentación diapositivas\nElenco de recursos para el día de todos los santos\nEducaplay\, día de todos los santos\nSantoral del Vaticano\nElenco de recursos para el Día de Todos los Santos\nExperiencia didáctica: El santoral en la clase de Religión.\nProyecto: Mi nombre es un santo\nRecopilación de recursos sobre santos y santas\nMagnífica inciativa con materiales y recursos denominada: Holywins\nPara celebrar la festividad del día de Todos los Santos proponemos leer la siguiente reflexión que podrán leer con los alumnos:\nNecesitamos santos sin velo\, ni sotana.\nNecesitamos santos con jeans y zapatillas.\nNecesitamos santos que vayan al cine\, que escuchen música\, que caminen con sus amigos.\nNecesitamos santos que coloquen a Dios en primer lugar y que sean lanzados en sus universidades.\n\nNecesitamos santos que tengan tiempo diario para la oración y que sepan enamorarse de la belleza y la justicia.\nNecesitamos santos modernos\, santos del siglo XXI con una espiritualidad donde ponga al hermano frágil por encima de todo.\nNecesitamos santos comprometidos con los pobres\, y con los necesarios cambios sociales. Necesitamos santos que vivan en el mundo\, que se santifiquen en el mundo\, que no tengan miedo de vivir en el mundo.\n\nNecesitamos santos que tomen gaseosa y coman panchos\, que usen jeans\, que sean actuales.\nNecesitamos santos que usen Tik Tok e Instagram y muestren al mundo la alegría de ser jóvenes con sentido.\nNecesitamos santos que amen apasionadamente la Eucaristía y que no tengan vergüenza de tomar un refresco o comer una pizza un fin de semana con los amigos. Necesitamos santos que les guste el cine\, la música. Necesitamos santos sociables\, abiertos\, normales\, amables\, alegres\, compañeros.\n\nNecesitamos santos que vean pelis de Neflix o Amazon y sean críticos y opten por el bien y la belleza.\nNecesitamos santos que estén en el mundo y que sepan saborear las cosas puras\, buenas y mundanas.\nLos alumnos pueden continuar el poema. \n\nJuegos para Primaria para trabajar en clase
URL:https://www.religionyescuela.com/evento/dia-de-todos-los-santos-3/
CATEGORIES:Pastoral,Santoral
ATTACH;FMTTYPE=image/jpeg:https://www.religionyescuela.com/wp-content/uploads/2021/10/todos-santos.jpg
END:VEVENT
BEGIN:VEVENT
DTSTART;VALUE=DATE:20251102
DTEND;VALUE=DATE:20251103
DTSTAMP:20260421T164315
CREATED:20231005T060036Z
LAST-MODIFIED:20250505T092818Z
UID:7520-1762041600-1762127999@www.religionyescuela.com
SUMMARY:Conmemoración de los fieles difuntos
DESCRIPTION:A partir de la canción de IXCIS: Morir entresacar el sentido de la muerte con un sentido cristiano. \n\nMorir es dar un beso a la vida\, sentir que todo se ilumina\nAbrazar a aquellos que tanto echas en falta\nMorir es cruzar una puerta a la deriva y encontrar lo que tanto se buscaba.\nMorir es….\n¿Cuándo se muere…?\n\nCada alumno recuerda a su ser querido y le escribe una pequeña carta recordando algún momento vivido con él o ella\, agradeciéndole o haciéndole una petición… La deposita en una caja que tendrá el profesor… \nJuntos\, oramos por cada uno de nuestros familiares\, amigos que han pasado a la “ vida otra” y ya están gozando de una vida plena.
URL:https://www.religionyescuela.com/evento/conmemoracion-de-los-fieles-difuntos/
CATEGORIES:Material,Santoral
ATTACH;FMTTYPE=image/jpeg:https://www.religionyescuela.com/wp-content/uploads/2021/10/conmemoracion.jpg
END:VEVENT
BEGIN:VEVENT
DTSTART;VALUE=DATE:20251103
DTEND;VALUE=DATE:20251104
DTSTAMP:20260421T164315
CREATED:20231004T220036Z
LAST-MODIFIED:20250505T092824Z
UID:7545-1762128000-1762214399@www.religionyescuela.com
SUMMARY:San Martín de Porres
DESCRIPTION: 
URL:https://www.religionyescuela.com/evento/san-martin-de-porres/
CATEGORIES:Santoral
END:VEVENT
BEGIN:VEVENT
DTSTART;VALUE=DATE:20251109
DTEND;VALUE=DATE:20251110
DTSTAMP:20260421T164315
CREATED:20231108T100753Z
LAST-MODIFIED:20250511T161115Z
UID:12907-1762646400-1762732799@www.religionyescuela.com
SUMMARY:Virgen de la Almudena
DESCRIPTION:Según cuenta la tradición\, en el año 1085\, el rey Alfonso VI de León encontró la imagen de María con dos velas encendidas durante la conquista\, tras caer el muro que amurallaba la ciudad\, en la actual Cuesta de Vega\, donde hoy se recuerda con una copia de la Almudena actual que tenemos en la Catedral. \nAl parecer\, los habitantes de la villa tapiaron la imagen de la Virgen en los muros de la muralla para esconderla de los árabes durante la Reconquista. Según los cronistas de Madrid de los siglos XVI y XVII\, fue en ese mismo lugar donde apareció. \nEn la calle de la Almudena se encontraba la primera Iglesia dedicada a la Virgen María\, donde todavía en la actualidad encontramos restos arqueológicos. Primero fue iglesia visigoda\, después una mezquita y\, finalmente\, fue consagrada como Iglesia en el 1085\, momento en el que apareció la imagen. \nA partir de entonces\, coincidieron dos imágenes\, la de la Almudena\, que llega de la muralla\, y la de la Virgen de la Flor de Lis\, que se encuentra actualmente en la cripta de la Catedral. La advocación de la Virgen de la Almudena sufre muchos contratiempos. \nAl parecer\, su imagen se quemó en un incendio y encargan una nueva\, la que ya conocemos. Además\, la iglesia es derribada en el siglo XIX\, así que la Virgen de la Almudena que conocemos pasa por diferentes incendios hasta llegar a la Catedral. \nEn la actualidad\, la imagen más antigua de Santa María de la Almudena es la que se encuentra en el camarín de la Catedral y es la que los madrileños siempre rezamos. Se trata de una talla de madera\, policromada\, que lleva las coronas que regaló el pueblo de Madrid en el año 1948 y antiguamente\, siglos pasados\, estaba vestida. Por eso\, en la procesión sale con un manto. \nRecursos didácticos: \n\nVirgen de la Almudena\n¿Sabes por qué la Almudena es la patrona de Madrid?\nTradición e historia de La Virgen de la Almudena\nRecursos para trabajar la Virgen de la Almudena\nRecursos sobre la virgen María y advocaciones\nVirgen de la Almudena – Recursos\nManualidades de la Virgen de la Almudena\nRecursos Virgen de la Almudena\nHistoria del retablo que cobija a la Virgen de la Almudena\nLos milagros de la Virgen de la Almudena\n\n 
URL:https://www.religionyescuela.com/evento/virgen-de-la-almudena-2/
CATEGORIES:Pastoral,Santoral
ATTACH;FMTTYPE=image/jpeg:https://www.religionyescuela.com/wp-content/uploads/2023/10/Listado-Altar-de-la-Almudena1.jpg
END:VEVENT
BEGIN:VEVENT
DTSTART;VALUE=DATE:20251122
DTEND;VALUE=DATE:20251123
DTSTAMP:20260421T164315
CREATED:20221122T073713Z
LAST-MODIFIED:20250505T090255Z
UID:11240-1763769600-1763855999@www.religionyescuela.com
SUMMARY:Santa Cecilia
DESCRIPTION:Cada 22 de noviembre la Iglesia celebra a Santa Cecilia\, Virgen y Mártir\, patrona de los músicos y poetas. \nFue una noble romana convertida al cristianismo y martirizada por su fe hacia el año 230. \nFue canonizada en 1594 por el papa Gregorio XIII. \nSu culto se ha extendido universalmente en virtud al relato sobre su martirio\, por el que se le considera modelo de mujer cristiana. Ya en el siglo V existía una basílica construida en su honor.
URL:https://www.religionyescuela.com/evento/santa-cecilia/
CATEGORIES:Santoral
ATTACH;FMTTYPE=image/jpeg:https://www.religionyescuela.com/wp-content/uploads/2022/11/santa-cecilia.jpg
END:VEVENT
END:VCALENDAR