BEGIN:VCALENDAR
VERSION:2.0
PRODID:-//Religión y Escuela - ECPv6.15.12.2//NONSGML v1.0//EN
CALSCALE:GREGORIAN
METHOD:PUBLISH
X-ORIGINAL-URL:https://www.religionyescuela.com
X-WR-CALDESC:Eventos para Religión y Escuela
REFRESH-INTERVAL;VALUE=DURATION:PT1H
X-Robots-Tag:noindex
X-PUBLISHED-TTL:PT1H
BEGIN:VTIMEZONE
TZID:Europe/Madrid
BEGIN:DAYLIGHT
TZOFFSETFROM:+0100
TZOFFSETTO:+0200
TZNAME:CEST
DTSTART:20240331T010000
END:DAYLIGHT
BEGIN:STANDARD
TZOFFSETFROM:+0200
TZOFFSETTO:+0100
TZNAME:CET
DTSTART:20241027T010000
END:STANDARD
BEGIN:DAYLIGHT
TZOFFSETFROM:+0100
TZOFFSETTO:+0200
TZNAME:CEST
DTSTART:20250330T010000
END:DAYLIGHT
BEGIN:STANDARD
TZOFFSETFROM:+0200
TZOFFSETTO:+0100
TZNAME:CET
DTSTART:20251026T010000
END:STANDARD
BEGIN:DAYLIGHT
TZOFFSETFROM:+0100
TZOFFSETTO:+0200
TZNAME:CEST
DTSTART:20260329T010000
END:DAYLIGHT
BEGIN:STANDARD
TZOFFSETFROM:+0200
TZOFFSETTO:+0100
TZNAME:CET
DTSTART:20261025T010000
END:STANDARD
END:VTIMEZONE
BEGIN:VEVENT
DTSTART;VALUE=DATE:20251203
DTEND;VALUE=DATE:20251204
DTSTAMP:20260421T150454
CREATED:20211201T154027Z
LAST-MODIFIED:20250505T091804Z
UID:8270-1764720000-1764806399@www.religionyescuela.com
SUMMARY:San Francisco Javier
DESCRIPTION:Hoy\, san Francisco Javier\, patrón de las misiones.\nSu celo por evangelizar Asia le llevó a decir:\n“Si no encuentro una barca\, iré nadando”.\nSolo el que ha conocido a Dios es consciente\ndel infierno que es vivir sin Él. Mide tu fe\ncon la regla de tu celo apostólico. \n  \nProponemos una serie de actividades para que los alumnos conozcan mejor la figura de san Francisco de Asís. \nPincha en cada enlace y te mostraremos cómo acercar la imagen del santo a la clase. \n  \nInfantil\n  \nSecundaria\n  \nESO\nPara Secundaria proponemos la visualización de 2 vídeos y una presentación de nuestro joven del futuro. \nHaz una línea cronológica de su vida\, resaltando las fechas más importantes y sus cualidades o valores. Puedes utilizar alguno de estos apps u otra forma. \n\nCom\ngenially education\nCualquier otra aplicación…\n\nSan Francisco Javier\, el cangrejo y la luz\n \n  \nSan Francisco Javier; Un santo que dejó huella\n \n  \n 
URL:https://www.religionyescuela.com/evento/san-francisco-javier/
CATEGORIES:Material,Santoral
ATTACH;FMTTYPE=image/jpeg:https://www.religionyescuela.com/wp-content/uploads/2021/12/san-francisco-javier-e1666189824867.jpg
END:VEVENT
BEGIN:VEVENT
DTSTART;VALUE=DATE:20251208
DTEND;VALUE=DATE:20251209
DTSTAMP:20260421T150454
CREATED:20231109T110031Z
LAST-MODIFIED:20250429T105846Z
UID:12926-1765152000-1765238399@www.religionyescuela.com
SUMMARY:Día de La Inmaculada Concepción
DESCRIPTION:El Día de la Inmaculada Concepción celebra que María ha nacido sin pecado original concebida. María es llamada por Dios para ser madre de su hijo y por tanto colaboradora en la salvación de la humanidad por parte de Cristo. Al igual que la Asunción de María\, aunque este episodio no aparece explícitamente en los evangelios\, la tradición lo reconoce como una consecuencia de la encarnación del hijo de Dios. Un hecho bíblico que se revela en la afirmación del Arcángel Gabriel Alégrate\, llena de gracia\, el Señor está contigo (Lucas 1\, 30). Esta festividad es una de las cuatro mayores celebraciones de María y se celebra los 8 de diciembre. Sin embargo\, la fiesta inicia en la misa del 7. \nPuedes consultar este artículo sobre el santoral de la Inmaculada Concepción. \nRecursos didácticos: \n\nActividades y juegos en wordwall\nRecursos para el día de la Inmaculada Concepción\nElenco de recursos para trabajar la Inmaculada\nManualidades para la Inmaculada \nManualidades sobre la Inmaculada Concepción\nPara trabajar la Inmaculada Concepción
URL:https://www.religionyescuela.com/evento/dia-de-la-inmaculada-concepcion/
CATEGORIES:Pastoral,Santoral
ATTACH;FMTTYPE=image/png:https://www.religionyescuela.com/wp-content/uploads/2023/11/maria_papel1.png
END:VEVENT
BEGIN:VEVENT
DTSTART;VALUE=DATE:20251213
DTEND;VALUE=DATE:20251214
DTSTAMP:20260421T150454
CREATED:20231005T060056Z
LAST-MODIFIED:20250505T094532Z
UID:8343-1765584000-1765670399@www.religionyescuela.com
SUMMARY:Santa Lucía
DESCRIPTION:Hoy\, Santa Lucía (de lux\, luz). \nLa tradición dice que le sacaron los ojos por no renunciar a su fe.\n¡Cómo será de grande la luz de la fe para que quien\nla posea prefiera vivir en la oscuridad física antes\nque perderla! Pide esa luz que ilumine tu vida.\n¡Es un don! \n  \nPara orar: \nCaminemos a la luz de la vida\, dando la espalda a las tinieblas y portando a Cristo\,\nque ilumina la existencia de la humanidad\, como hizo santa Lucía.
URL:https://www.religionyescuela.com/evento/santa-lucia/
CATEGORIES:Santoral
ATTACH;FMTTYPE=image/jpeg:https://www.religionyescuela.com/wp-content/uploads/2021/12/Santa-Lucia.jpg
END:VEVENT
BEGIN:VEVENT
DTSTART;VALUE=DATE:20251214
DTEND;VALUE=DATE:20251215
DTSTAMP:20260421T150454
CREATED:20231004T220036Z
LAST-MODIFIED:20250505T094540Z
UID:8369-1765670400-1765756799@www.religionyescuela.com
SUMMARY:San Juan de la Cruz
DESCRIPTION:Hoy\, san Juan de la Cruz. Sus superiores\nlo maltrataron duramente\, pero cuando él fue\nsuperior\, reprendía “con dulce severidad.\nExhortando con amor paternal”. \nNo vuelques sobre los demás la violencia\nque te hacen (o hicieron) otros. Sé cortafuegos\ndel mal.
URL:https://www.religionyescuela.com/evento/san-juan-de-la-cruz/
CATEGORIES:Santoral
ATTACH;FMTTYPE=image/jpeg:https://www.religionyescuela.com/wp-content/uploads/2021/12/San-Juan-de-la-Cruz.jpg
END:VEVENT
BEGIN:VEVENT
DTSTART;VALUE=DATE:20251226
DTEND;VALUE=DATE:20251227
DTSTAMP:20260421T150454
CREATED:20211213T125002Z
LAST-MODIFIED:20250505T091828Z
UID:8412-1766707200-1766793599@www.religionyescuela.com
SUMMARY:San Esteban
DESCRIPTION:Hoy\, san Esteban\, primer mártir cristiano. Acusado\nfalsamente\, fue juzgado y condenado a ser\nlapidado. Antes de morir\, exclamó: “Señor\,\nno les tengas en cuenta este pecado”.\nHoy te van a lanzar\, seguro\, un par de “pedradas”.\n¿Cuál va a ser tu respuesta?
URL:https://www.religionyescuela.com/evento/san-esteban/
CATEGORIES:Santoral
ATTACH;FMTTYPE=image/jpeg:https://www.religionyescuela.com/wp-content/uploads/2021/12/san-esteban.jpg
END:VEVENT
BEGIN:VEVENT
DTSTART;VALUE=DATE:20251227
DTEND;VALUE=DATE:20251228
DTSTAMP:20260421T150454
CREATED:20211213T133147Z
LAST-MODIFIED:20250505T091846Z
UID:8423-1766793600-1766879999@www.religionyescuela.com
SUMMARY:San Juan Evangelista
DESCRIPTION:San Juan Evangelista\, el apóstol Juan\, es el discípulo a quien Jesús tanto amaba. Estaba reclinado muy cerca de Jesús y se reclinó sobre él durante la última cena. Es al que Cristo encomienda a su madre durante la crucifixión.
URL:https://www.religionyescuela.com/evento/san-juan-evangelista/
CATEGORIES:Santoral
ATTACH;FMTTYPE=image/jpeg:https://www.religionyescuela.com/wp-content/uploads/2021/12/san-juan-evangelista.jpg
END:VEVENT
BEGIN:VEVENT
DTSTART;VALUE=DATE:20251228
DTEND;VALUE=DATE:20251229
DTSTAMP:20260421T150454
CREATED:20211213T151917Z
LAST-MODIFIED:20250505T092448Z
UID:8434-1766880000-1766966399@www.religionyescuela.com
SUMMARY:Santos inocentes
DESCRIPTION:Hoy\, fiesta de los Santos Inocentes. Perdieron\nsu vida por el que es la Vida; murieron salvando\nal Salvador.\n¿Por qué sufren los inocentes? No hagas muchas\ncábalas. Tienes que esperar al final de la historia\ny confiar.
URL:https://www.religionyescuela.com/evento/santos-inocentes/
CATEGORIES:Santoral
ATTACH;FMTTYPE=image/jpeg:https://www.religionyescuela.com/wp-content/uploads/2021/12/santos-inocentes.jpg
END:VEVENT
BEGIN:VEVENT
DTSTART;VALUE=DATE:20251229
DTEND;VALUE=DATE:20251230
DTSTAMP:20260421T150454
CREATED:20211213T153643Z
LAST-MODIFIED:20250505T092455Z
UID:8438-1766966400-1767052799@www.religionyescuela.com
SUMMARY:Santo Tomás Becket
DESCRIPTION:Hoy\, santo Tomás Becket. Defendió la autonomía\nde la Iglesia frente al Estado\, por lo que fue\nasesinado.\nTodavía hoy\, cuando los políticos cercan a la Iglesia\npor “retrógrada”\, lo que quieren es que esta\nbendiga sus postulados contrarios a Dios\ny al hombre. Y la Iglesia dice: ¡no!
URL:https://www.religionyescuela.com/evento/santo-tomas-becket/
CATEGORIES:Santoral
ATTACH;FMTTYPE=image/jpeg:https://www.religionyescuela.com/wp-content/uploads/2021/12/santo-tomas-becket.jpg
END:VEVENT
BEGIN:VEVENT
DTSTART;VALUE=DATE:20251230
DTEND;VALUE=DATE:20251231
DTSTAMP:20260421T150454
CREATED:20211213T154545Z
LAST-MODIFIED:20250505T092502Z
UID:8441-1767052800-1767139199@www.religionyescuela.com
SUMMARY:Beato Juan María Boccardo
DESCRIPTION:Hoy\, beato Juan María Boccardo. Siempre\nmuy cercano a los pobres de Turín\, cuidó\nespecialmente de los reclusos.\nLlevar el Evangelio a los presos es devolverles\nla libertad\, porque no hay peor cárcel que vivir\nsin Dios. Libérate\, coge la lima de la oración.
URL:https://www.religionyescuela.com/evento/beato-juan-maria-boccardo/
CATEGORIES:Material,Santoral
ATTACH;FMTTYPE=image/jpeg:https://www.religionyescuela.com/wp-content/uploads/2021/12/beato-juan-maria.jpg
END:VEVENT
BEGIN:VEVENT
DTSTART;VALUE=DATE:20251231
DTEND;VALUE=DATE:20260101
DTSTAMP:20260421T150454
CREATED:20211213T155102Z
LAST-MODIFIED:20250505T092508Z
UID:8445-1767139200-1767225599@www.religionyescuela.com
SUMMARY:San Silvestre
DESCRIPTION:Hoy\, san Silvestre\, Papa. Durante su pontificado\,\nacabó la persecución a los cristianos\ny el emperador Constantino les dio libertad\nde culto.\nEl Señor es el dueño de la historia.\nEncomiéndale el año que comienza.\nNada pasará sino para tu salvación.\n¡Feliz año nuevo!
URL:https://www.religionyescuela.com/evento/san-silvestre/
CATEGORIES:Material,Santoral
ATTACH;FMTTYPE=image/jpeg:https://www.religionyescuela.com/wp-content/uploads/2021/12/san-silvestre.jpg
END:VEVENT
END:VCALENDAR