BEGIN:VCALENDAR
VERSION:2.0
PRODID:-//Religión y Escuela - ECPv6.15.12.2//NONSGML v1.0//EN
CALSCALE:GREGORIAN
METHOD:PUBLISH
X-WR-CALNAME:Religión y Escuela
X-ORIGINAL-URL:https://www.religionyescuela.com
X-WR-CALDESC:Eventos para Religión y Escuela
REFRESH-INTERVAL;VALUE=DURATION:PT1H
X-Robots-Tag:noindex
X-PUBLISHED-TTL:PT1H
BEGIN:VTIMEZONE
TZID:Europe/Madrid
BEGIN:DAYLIGHT
TZOFFSETFROM:+0100
TZOFFSETTO:+0200
TZNAME:CEST
DTSTART:20250330T010000
END:DAYLIGHT
BEGIN:STANDARD
TZOFFSETFROM:+0200
TZOFFSETTO:+0100
TZNAME:CET
DTSTART:20251026T010000
END:STANDARD
BEGIN:DAYLIGHT
TZOFFSETFROM:+0100
TZOFFSETTO:+0200
TZNAME:CEST
DTSTART:20260329T010000
END:DAYLIGHT
BEGIN:STANDARD
TZOFFSETFROM:+0200
TZOFFSETTO:+0100
TZNAME:CET
DTSTART:20261025T010000
END:STANDARD
BEGIN:DAYLIGHT
TZOFFSETFROM:+0100
TZOFFSETTO:+0200
TZNAME:CEST
DTSTART:20270328T010000
END:DAYLIGHT
BEGIN:STANDARD
TZOFFSETFROM:+0200
TZOFFSETTO:+0100
TZNAME:CET
DTSTART:20271031T010000
END:STANDARD
END:VTIMEZONE
BEGIN:VEVENT
DTSTART;VALUE=DATE:20260101
DTEND;VALUE=DATE:20260102
DTSTAMP:20260421T133855
CREATED:20211214T103716Z
LAST-MODIFIED:20250505T092616Z
UID:8459-1767225600-1767311999@www.religionyescuela.com
SUMMARY:Santa María\, Madre de Dios
DESCRIPTION:Hoy\, María\, Madre de Dios. Ella es el portal\na través del cual el eterno Dios entró\na esta dimensión espacio-temporal\ncomo verdadero hombre. \nEl portal sigue abierto. Acude a él\ncuando necesites algo del otro lado.
URL:https://www.religionyescuela.com/evento/santa-maria-madre-de-dios/
CATEGORIES:Material,Santoral
ATTACH;FMTTYPE=image/jpeg:https://www.religionyescuela.com/wp-content/uploads/2021/12/santa-maria.jpg
END:VEVENT
BEGIN:VEVENT
DTSTART;VALUE=DATE:20260102
DTEND;VALUE=DATE:20260103
DTSTAMP:20260421T133855
CREATED:20211214T111615Z
LAST-MODIFIED:20250505T080927Z
UID:8463-1767312000-1767398399@www.religionyescuela.com
SUMMARY:San Gregorio Nacianceno
DESCRIPTION:Gregorio Nacianceno –de Nacianzo\, en Turquía– nació en esta misma ciudad en el año 329 y murió en 389.\nEs conocido también como Gregorio el Teólogo.\nFue arzobispo de Constantinopla.\nSufrió mucho por difamaciones y enfrentamientos con los que mantenían posturas erróneas en torno a la fe. Es uno de los más grandes padres y doctores de la Iglesia. Su doctrina sobre la Trinidad\, es decir\, las relaciones entre el Padre\, el Hijo y el Espíritu Santo son fundamentales para la Teología. Escribió 45 discursos\, 244 cartas y más de 400 poemas.
URL:https://www.religionyescuela.com/evento/san-gregorio-nacianceno/
CATEGORIES:Material,Santoral
ATTACH;FMTTYPE=image/jpeg:https://www.religionyescuela.com/wp-content/uploads/2021/12/san-gregorio.jpg
END:VEVENT
BEGIN:VEVENT
DTSTART;VALUE=DATE:20260104
DTEND;VALUE=DATE:20260105
DTSTAMP:20260421T133855
CREATED:20211214T121616Z
LAST-MODIFIED:20250505T092624Z
UID:8467-1767484800-1767571199@www.religionyescuela.com
SUMMARY:San Manuel González
DESCRIPTION:Hoy\, san Manuel González. Pidió ser enterrado\njunto a un sagrario\, para estar siempre diciendo:\n“¡Ahí esta Jesús!\, ¡ahí está!\n¡No dejadlo abandonado!”. \nCuando entres en una iglesia\,\nbusca la lamparita roja.\nEs la estrella que te lleva al portal.\nVe y adora al Niño.
URL:https://www.religionyescuela.com/evento/san-manuel-gonzalez/
CATEGORIES:Material,Santoral
ATTACH;FMTTYPE=image/jpeg:https://www.religionyescuela.com/wp-content/uploads/2021/12/san-manuel.jpg
END:VEVENT
BEGIN:VEVENT
DTSTART;VALUE=DATE:20260106
DTEND;VALUE=DATE:20260107
DTSTAMP:20260421T133855
CREATED:20211005T060054Z
LAST-MODIFIED:20250505T092631Z
UID:8472-1767657600-1767743999@www.religionyescuela.com
SUMMARY:Epifanía del Señor
DESCRIPTION:La celebración de la festividad de la Epifanía gira en torno a la adoración del Niño Jesús por parte de los tres Reyes Magos como símbolo del reconocimiento de que es el salvador de toda la humanidad. \nDe acuerdo a la tradición de la Iglesia del siglo I\, se relaciona a estos magos como hombres poderosos y sabios\, posiblemente reyes de naciones al oriente del Mediterráneo\, hombres que por su cultura y espiritualidad cultivaban su conocimiento de hombre y de la naturaleza. Del pasaje bíblico sabemos que son magos\, que vinieron de Oriente y que como regalo trajeron incienso\, oro y mirra; de la tradición de los primeros siglos se nos dice que fueron tres reyes sabios: Melchor\, Gaspar y Baltazar. Hasta el año de 474 AD sus restos estuvieron en Constantinopla\, la capital cristiana más importante en Oriente; luego fueron trasladados a la catedral de Milán (Italia) y en 1164 fueron trasladados a la ciudad de Colonia (Alemania)\, donde permanecen hasta nuestros días. \nEl hacer regalos a los niños el día 6 de enero corresponde a la conmemoración de la generosidad que estos magos tuvieron al adorar al Niño Jesús y hacerle regalos tomando en cuenta que «lo que hiciereis con uno de estos pequeños\, a mi me lo hacéis» (Mt. 25\, 40); a los niños haciéndoles vivir hermosa y delicadamente la fantasía del acontecimiento y a los mayores como muestra de amor y fe a Cristo recién nacido.
URL:https://www.religionyescuela.com/evento/epifania-del-senor/
CATEGORIES:Material,Santoral
ATTACH;FMTTYPE=image/jpeg:https://www.religionyescuela.com/wp-content/uploads/2021/12/epifania.jpg
END:VEVENT
BEGIN:VEVENT
DTSTART;VALUE=DATE:20260106
DTEND;VALUE=DATE:20260107
DTSTAMP:20260421T133855
CREATED:20231201T101526Z
LAST-MODIFIED:20250922T093242Z
UID:13102-1767657600-1767743999@www.religionyescuela.com
SUMMARY:Día de Reyes
DESCRIPTION:El día 6 de enero se celebra en varios países del mundo el Día de Reyes\, para conmemorar la adoración del Niño Jesús por parte de los tres reyes magos\, provenientes del Oriente para rendir honores y traer presentes al recién nacido. \nConstituye un símbolo inequívoco del reconocimiento del mundo pagano\, que reconoce a Jesucristo como Rey y único salvador de la humanidad. \nAlgunos recursos: \n\nVídeo destacado\n¿Quiénes eran los Reyes Magos?\n¿Cuál fue el origen del Día de Reyes?\nAlgunas curiosidades sobre el Día de Los Reyes Magos\nCelebrando el Día de Reyes alrededor del mundo\nEl rosco de reyes\nElenco de recursos sobre los reyes magos\n\n 
URL:https://www.religionyescuela.com/evento/dia-de-reyes/
CATEGORIES:Pastoral,Santoral
END:VEVENT
BEGIN:VEVENT
DTSTART;VALUE=DATE:20260107
DTEND;VALUE=DATE:20260108
DTSTAMP:20260421T133855
CREATED:20211214T153934Z
LAST-MODIFIED:20250505T095548Z
UID:8476-1767744000-1767830399@www.religionyescuela.com
SUMMARY:San Raimundo de Peñafort
DESCRIPTION:Hoy\, san Raimundo de Peñafort. Dice la leyenda que\,\nen una ocasión en la que estaba retenido\nen una isla\, se subió a su capa que\,\na modo de pequeña embarcación de vela\,\nlo llevó a su destino. \nNo temas a los problemas de hoy.\nTú pon tu debilidad y Él pondrá el resto.
URL:https://www.religionyescuela.com/evento/san-raimundo-de-penafort/
CATEGORIES:Material,Santoral
ATTACH;FMTTYPE=image/jpeg:https://www.religionyescuela.com/wp-content/uploads/2021/12/san-raimundo.jpg
END:VEVENT
BEGIN:VEVENT
DTSTART;VALUE=DATE:20260128
DTEND;VALUE=DATE:20260129
DTSTAMP:20260421T133855
CREATED:20231005T060030Z
LAST-MODIFIED:20250505T100043Z
UID:8486-1769558400-1769644799@www.religionyescuela.com
SUMMARY:Santo Tomás de Aquino
DESCRIPTION:Hoy\, santo Tomás de Aquino\, patrón\nde los estudiantes. Decía que él había aprendido\nmás arrodillándose ante el crucifijo\nque en la lectura de los libros. \nSi estás de exámenes\, para de vez en cuando\ny reza un poco pidiendo ayuda. Verás que no es\ntiempo perdido
URL:https://www.religionyescuela.com/evento/santo-tomas-de-aquino/
CATEGORIES:Material,Santoral
ATTACH;FMTTYPE=image/jpeg:https://www.religionyescuela.com/wp-content/uploads/2021/12/santo-tomas-de-aquino.jpg
END:VEVENT
END:VCALENDAR