BEGIN:VCALENDAR
VERSION:2.0
PRODID:-//Religión y Escuela - ECPv6.15.12.2//NONSGML v1.0//EN
CALSCALE:GREGORIAN
METHOD:PUBLISH
X-ORIGINAL-URL:https://www.religionyescuela.com
X-WR-CALDESC:Eventos para Religión y Escuela
REFRESH-INTERVAL;VALUE=DURATION:PT1H
X-Robots-Tag:noindex
X-PUBLISHED-TTL:PT1H
BEGIN:VTIMEZONE
TZID:Europe/Madrid
BEGIN:DAYLIGHT
TZOFFSETFROM:+0100
TZOFFSETTO:+0200
TZNAME:CEST
DTSTART:20240331T010000
END:DAYLIGHT
BEGIN:STANDARD
TZOFFSETFROM:+0200
TZOFFSETTO:+0100
TZNAME:CET
DTSTART:20241027T010000
END:STANDARD
BEGIN:DAYLIGHT
TZOFFSETFROM:+0100
TZOFFSETTO:+0200
TZNAME:CEST
DTSTART:20250330T010000
END:DAYLIGHT
BEGIN:STANDARD
TZOFFSETFROM:+0200
TZOFFSETTO:+0100
TZNAME:CET
DTSTART:20251026T010000
END:STANDARD
BEGIN:DAYLIGHT
TZOFFSETFROM:+0100
TZOFFSETTO:+0200
TZNAME:CEST
DTSTART:20260329T010000
END:DAYLIGHT
BEGIN:STANDARD
TZOFFSETFROM:+0200
TZOFFSETTO:+0100
TZNAME:CET
DTSTART:20261025T010000
END:STANDARD
END:VTIMEZONE
BEGIN:VEVENT
DTSTART;VALUE=DATE:20250613
DTEND;VALUE=DATE:20250614
DTSTAMP:20260422T034441
CREATED:20230512T093239Z
LAST-MODIFIED:20250505T100108Z
UID:12105-1749772800-1749859199@www.religionyescuela.com
SUMMARY:San Antonio de Padua
DESCRIPTION:El 13 de junio la Iglesia Católica celebra la fiesta litúrgica de San Antonio de Padua\, Doctor de la Iglesia y patrono de los pobres\, reconocido por su extraordinario don de milagros. \nRecursos: \nSan Antonio de Padua \nBiografía de San Antonio de Padua \n10 datos que quizás no sabías sobre San Antonio de Padua \nLa historia de San Antonio de Padua: Cinco curiosidades que debes conocer \n  \n 
URL:https://www.religionyescuela.com/evento/san-antonio-de-padua/
CATEGORIES:Santoral
ATTACH;FMTTYPE=image/jpeg:https://www.religionyescuela.com/wp-content/uploads/2023/05/san-antonio-de-padua-100-cm.-fibra-de-vidrio-colorada1.jpg
END:VEVENT
END:VCALENDAR