BEGIN:VCALENDAR
VERSION:2.0
PRODID:-//Religión y Escuela - ECPv6.15.12.2//NONSGML v1.0//EN
CALSCALE:GREGORIAN
METHOD:PUBLISH
X-WR-CALNAME:Religión y Escuela
X-ORIGINAL-URL:https://www.religionyescuela.com
X-WR-CALDESC:Eventos para Religión y Escuela
REFRESH-INTERVAL;VALUE=DURATION:PT1H
X-Robots-Tag:noindex
X-PUBLISHED-TTL:PT1H
BEGIN:VTIMEZONE
TZID:Europe/Madrid
BEGIN:DAYLIGHT
TZOFFSETFROM:+0100
TZOFFSETTO:+0200
TZNAME:CEST
DTSTART:20240331T010000
END:DAYLIGHT
BEGIN:STANDARD
TZOFFSETFROM:+0200
TZOFFSETTO:+0100
TZNAME:CET
DTSTART:20241027T010000
END:STANDARD
BEGIN:DAYLIGHT
TZOFFSETFROM:+0100
TZOFFSETTO:+0200
TZNAME:CEST
DTSTART:20250330T010000
END:DAYLIGHT
BEGIN:STANDARD
TZOFFSETFROM:+0200
TZOFFSETTO:+0100
TZNAME:CET
DTSTART:20251026T010000
END:STANDARD
BEGIN:DAYLIGHT
TZOFFSETFROM:+0100
TZOFFSETTO:+0200
TZNAME:CEST
DTSTART:20260329T010000
END:DAYLIGHT
BEGIN:STANDARD
TZOFFSETFROM:+0200
TZOFFSETTO:+0100
TZNAME:CET
DTSTART:20261025T010000
END:STANDARD
END:VTIMEZONE
BEGIN:VEVENT
DTSTART;VALUE=DATE:20250624
DTEND;VALUE=DATE:20250625
DTSTAMP:20260422T034256
CREATED:20230525T082449Z
LAST-MODIFIED:20250505T105621Z
UID:12213-1750723200-1750809599@www.religionyescuela.com
SUMMARY:La natividad de San Juan Bautista
DESCRIPTION:Hoy la Iglesia celebra la solemnidad de la natividad de San Juan Bautista\, y el 29 de agosto\, la memoria de su martirio.  No hay ningún otro santo del que la Iglesia celebre el nacimiento y la muerte\, como celebra los de Jesús\, el Hijo de Dios (25 de Navidad y Viernes Santo) y la Virgen María (8 de septiembre y 15 de agosto). Normalmente sólo se celebra el «nacimiento al cielo». Pero el propio Jesús dijo de Juan: «En verdad os digo que entre los nacidos de mujer no hay otro mayor que Juan el Bautista» (Mt 11\,11). Último de los grandes profetas de Israel\, primer testigo de Jesús\, iniciador de un bautismo para el perdón de los pecados y\, en este contexto\, bautista de Jesús; mártir por defender la ley judía.\nYa en el siglo IV encontramos conmemoraciones litúrgicas de San Juan Bautista en fechas diversas. La del 24 de junio se fija según el Evangelio de San Lucas\, 1\,36a\, cuando se dice que Isabel estaba ya en «su sexto mes»; por tanto\, seis meses antes de la Navidad. Desde el siglo VI esta fiesta tiene una Víspera. \nDescubre quién fue\, curiosidades y leyendas\, actividades o juegos interactivos\, incluso hasta filmografía sobre este personaje bíblico. \nRecursos para el aula: \n\nBiografía de San Juan Bautista\nSan Juan Bautista\, un santo querido y devocionado por el pueblo\n24 de junio San Juan Bautista\nSan Juan Bautista. Figura\, curiosidades y filmografía.\nJuegos interactivos en wordwall\nJuegos interactivos en educaplay
URL:https://www.religionyescuela.com/evento/la-natividad-de-san-juan-bautista/
CATEGORIES:Santoral
ATTACH;FMTTYPE=image/jpeg:https://www.religionyescuela.com/wp-content/uploads/2023/05/Juan-el-Bautista1.jpg
END:VEVENT
END:VCALENDAR