BEGIN:VCALENDAR
VERSION:2.0
PRODID:-//Religión y Escuela - ECPv6.15.12.2//NONSGML v1.0//EN
CALSCALE:GREGORIAN
METHOD:PUBLISH
X-ORIGINAL-URL:https://www.religionyescuela.com
X-WR-CALDESC:Eventos para Religión y Escuela
REFRESH-INTERVAL;VALUE=DURATION:PT1H
X-Robots-Tag:noindex
X-PUBLISHED-TTL:PT1H
BEGIN:VTIMEZONE
TZID:Europe/Madrid
BEGIN:DAYLIGHT
TZOFFSETFROM:+0100
TZOFFSETTO:+0200
TZNAME:CEST
DTSTART:20240331T010000
END:DAYLIGHT
BEGIN:STANDARD
TZOFFSETFROM:+0200
TZOFFSETTO:+0100
TZNAME:CET
DTSTART:20241027T010000
END:STANDARD
BEGIN:DAYLIGHT
TZOFFSETFROM:+0100
TZOFFSETTO:+0200
TZNAME:CEST
DTSTART:20250330T010000
END:DAYLIGHT
BEGIN:STANDARD
TZOFFSETFROM:+0200
TZOFFSETTO:+0100
TZNAME:CET
DTSTART:20251026T010000
END:STANDARD
BEGIN:DAYLIGHT
TZOFFSETFROM:+0100
TZOFFSETTO:+0200
TZNAME:CEST
DTSTART:20260329T010000
END:DAYLIGHT
BEGIN:STANDARD
TZOFFSETFROM:+0200
TZOFFSETTO:+0100
TZNAME:CET
DTSTART:20261025T010000
END:STANDARD
END:VTIMEZONE
BEGIN:VEVENT
DTSTART;VALUE=DATE:20250629
DTEND;VALUE=DATE:20250630
DTSTAMP:20260422T034428
CREATED:20230525T084058Z
LAST-MODIFIED:20250505T105251Z
UID:12216-1751155200-1751241599@www.religionyescuela.com
SUMMARY:S. Pedro y S. Pablo\, apóstoles
DESCRIPTION:El 29 de junio\, la Iglesia celebra la Solemnidad de los Santos Pedro y Pablo en honor a los dos grandes apóstoles Pedro y Pablo. San Pedro\, uno de los Doce y el primero de los Apóstoles\, Roca sobre la cual Cristo edificó Su Iglesia\, y San Pablo “llamado a ser apóstol\, apartado para el evangelio de Dios” (Rom 1\,1) y Apóstol a los gentiles. Juntos son honrados como fundadores de la Iglesia de Roma\, habiendo sido martirizados por separado allí durante el reinado del emperador Nerón. \nPara trabajar en el aula o conocerlos mejor: \n\n¿Quiénes fueron san Pedro y san Pablo y qué se les encomendó?\n¿Por qué San Pedro y San Pablo se celebran el mismo día?\nPedro y Pablo\, Santos\nSan Pedro y San Pablo\nSan Pedro y San Pablo. Quiénes fueron\, leyendas y curiosidades\, filmografía\, cómo se celebra la solemnidad.\nActividades interactivas Educaplay\nActividades interactivas Wordwall\nSesión de aprendizaje San Pedro y San Pablo\nRecursos didácticos sobre San Pedro y San Pablo\nFichas de San Pedro y San Pablo\nJuego interactivo: Tras las huellas de San Pablo\nEspecial San Pedro y San Pablo: juegos y geniarely\n\n 
URL:https://www.religionyescuela.com/evento/s-pedro-y-s-pablo-apostoles/
CATEGORIES:Santoral
ATTACH;FMTTYPE=image/jpeg:https://www.religionyescuela.com/wp-content/uploads/2023/05/4efb5d49-2fa8-4671-afb8-694e173079c01.jpg
END:VEVENT
END:VCALENDAR