BEGIN:VCALENDAR
VERSION:2.0
PRODID:-//Religión y Escuela - ECPv6.15.12.2//NONSGML v1.0//EN
CALSCALE:GREGORIAN
METHOD:PUBLISH
X-ORIGINAL-URL:https://www.religionyescuela.com
X-WR-CALDESC:Eventos para Religión y Escuela
REFRESH-INTERVAL;VALUE=DURATION:PT1H
X-Robots-Tag:noindex
X-PUBLISHED-TTL:PT1H
BEGIN:VTIMEZONE
TZID:Europe/Madrid
BEGIN:DAYLIGHT
TZOFFSETFROM:+0100
TZOFFSETTO:+0200
TZNAME:CEST
DTSTART:20240331T010000
END:DAYLIGHT
BEGIN:STANDARD
TZOFFSETFROM:+0200
TZOFFSETTO:+0100
TZNAME:CET
DTSTART:20241027T010000
END:STANDARD
BEGIN:DAYLIGHT
TZOFFSETFROM:+0100
TZOFFSETTO:+0200
TZNAME:CEST
DTSTART:20250330T010000
END:DAYLIGHT
BEGIN:STANDARD
TZOFFSETFROM:+0200
TZOFFSETTO:+0100
TZNAME:CET
DTSTART:20251026T010000
END:STANDARD
BEGIN:DAYLIGHT
TZOFFSETFROM:+0100
TZOFFSETTO:+0200
TZNAME:CEST
DTSTART:20260329T010000
END:DAYLIGHT
BEGIN:STANDARD
TZOFFSETFROM:+0200
TZOFFSETTO:+0100
TZNAME:CET
DTSTART:20261025T010000
END:STANDARD
END:VTIMEZONE
BEGIN:VEVENT
DTSTART;VALUE=DATE:20250716
DTEND;VALUE=DATE:20250717
DTSTAMP:20260422T020106
CREATED:20240606T091214Z
LAST-MODIFIED:20250505T104941Z
UID:14823-1752624000-1752710399@www.religionyescuela.com
SUMMARY:Virgen del Carmen
DESCRIPTION:El día de la Virgen del Carmen conmemora la aparición de la Virgen a San Simón Stock. La historia de esta festividad está relacionada con la Orden de Nuestra Señora del Monte Carmelo o Los Carmelitas calzados y los descalzos (reformados por Santa Teresa de Jesús). Los místicos basan su devoción en un episodio bíblico en el que\, tras 3 años de sequía\, como castigo de Dios a su pueblo\, luego de la intervención del profeta Elías en el Monte Carmelo (en el actual estado de Israel)\, se desató una gran lluvia. Los Carmelitas le atribuyen el milagro a la Virgen. Y por eso le levantaron una capilla en el Carmelo\, alrededor del siglo XII\, donde iban miles de peregrinos. Hasta este momento la Virgen de los Carmelitas era la Inmaculada Concepción. Un siglo más tarde\, la Orden entra en crisis y San Simón Stock ora con mucho fervor a la Virgen. Entonces el 16 de julio de 1251 ocurre la aparición de la Virgen\, que le da un escapulario a San Simón Stock. Desde entonces la devoción se extendió entre los fieles. Su fiesta fue decretada universal en toda la Iglesia por el Papa Benedicto XIII en 1726. \n\n\n\n\n  \n\n  \n\n\n\n\nVirgen del Carmen – Datos y Frases Célebres\n\nEl episodio sobre Elías en el Monte Carmelo\, del que los carmelitas son muy devotos\, radica en un relato bíblico del Primer Libro de los Reyes. Allí se narra que el pueblo hebreo idolatraba un dios extranjero\, Baal\, y por eso la gran sequía a la que fueron condenados. El profeta Elías prometió a Dios que el rey Ajaab y el pueblo abandonarían la veneración por Baal y desde el Monte Carmelo oró. Subió más de siete veces y entonces apareció una gran señal: una nubecita como la palma de una mano (I Reyes 18\, 44)\, trajo finalmente el agua. Es por esto que el Carmelo se considera un lugar sagrado.\nLos Carmelitas han sido conocidos por su profunda devoción a la Santísima Virgen. Ya desde sus inicios en el siglo XII creían en el dogma de la Inmaculada Concepción (definido en 1854) y la Asunción de María (definido en 1950)\, muchos siglos antes de que fueran proclamados por los Papas como dogmas de Fe. Siendo el profeta Elías su Padre espiritual\, interpretaron la nube de la visión del profeta como una aparición de la Virgen María Inmaculada (I Reyes 18\, 43b-44).\nEl escapulario de la Virgen del Carmen es una de las devociones más extendidas de la Iglesia Católica. Grupos de fieles fueron reuniéndose y en el tiempo conformaron la Cofradía del escapulario. Esta se inició a partir de laicos (creyentes bautizados que no forman parte de ninguna orden clerical o religiosa). A quienes la Iglesia extendió el privilegio del escapulario (que inicialmente era solo de los Carmelitas). El escapulario del Carmen es una forma reducida del hábito religioso de la Orden de Hermanos de la bienaventurada Virgen del Monte Carmelo: recuerda la primacía de la vida espiritual y la necesidad de la oración.\nLa Virgen del Carmen\, tiene una gran importancia en la historia de Chile porque el 16 de julio de 1810\, durante una festividad del Carmen\, renunció Don Antonio García Carrasco\, el último Gobernador español. A partir de entonces la lucha libertadora fue encomendada a ella. El 5 de Enero de 1817 la Virgen es declarada Patrona del Ejército de los Andes. El 12 de febrero\, del mismo año\, el general Bernardo O´higgins\, devoto de la Virgen\, la declara Patrona y generalísima de las Armas. El año siguiente\, en vísperas de la última y definitiva lucha por la independencia\, la batalla de Maipú\, O´higgins le oró a la patrona y le prometió levantarle un templo. La victoria en Maipú\, el 5 de abril de 1818\, aseguró la independencia chilena. Entonces se inició la construcción del templo Votivo ubicado en el kilómetro cero de Chile. En 1923 la Santa Sede\, a petición del Episcopado Chileno\, nombró a la Virgen del Carmen Patrona de Chile. Así\, tanto católicos\, como no católicos\, la consideran su patrona.\nEste debe ser un signo y privilegio para ti y para todos los Carmelitas: quien muera usando el escapulario no sufrirá el fuego eterno – Promesa de la Virgen del Carmen a San Simón Stock\, Tierra Santa\, 1251.\n\n\n\n\n\nVirgen del Carmen – Eventos Importantes y Cosas Para Hacer\n\nEste es un día de mucha devoción en el mundo hispano. Desde temprano se realizan procesiones. Algunas localidades donde se desarrollan con mucho fervor son: Ecuador (El Carmen\, Rocafuerte\, cantón Gonzanamá en Loja y Puerto Francisco de Orellana); España (Alborea-Albacete\, Letur- Barrio de La Era del Rosal\, Liétor\, Molinicos\, Barbate-Cádiz) y Venezuela (Isla de Margarita\, Boconó-Trujillo).\nAdemás de las procesiones\, este día se celebra en muchas poblaciones con muestras de danzas tradicionales. En Cliza\, Bolivia\, en vísperas (el 12 de julio) se realizan las Danzas de diablos morenos\, Diabladas o Morenada. Son danzantes disfrazados con vistosos trajes de diablos y capataces morenos con máscaras\, que van desfilando por las calles. En La Paz\, estado Cohauila\, México\, la población celebra con las Danzas de Matlachines. Son danzantes vestidos falda y penacho\, que bailan al ritmo del violín\, la tambora y una pandereta o sonajero. Sus trajes brillan y producen sonidos.\nEs un buen día para conocer alguna de las iglesias consagradas a la Virgen del Carmen. Puedes visitar: el templo Votivo o basílica de Nuestra Señora del Carmen en Maipú (Chile); la basílica menor de Nuestra Señora del Carmen en la Ceja y la basílica menor de Nuestra Señora del Carmen en Frontino (Antioquia-Colombia); iglesia de Nuestra Señora del Carmen en San José (Costa Rica); la igreja de Nossa Senhora do Monte do Carmo en Río de Janeiro (Brasil).\nLas fiestas patronales de la Virgen del Carmen en Chile se consideran entre las más populares de Latinoamérica. En el Santuario Nacional (Santiago\, Plaza de Armas)\, los actos se inician el 10 de julio. Procesiones\, agrupaciones de canto\, música y danzas\, homenajean a la patrona. Junto a la población celebra el Ejército (esto también ocurre en otros países como: Argentina\, Bolivia y Venezuela). La Fiesta del Carmen en la Tirana (Tarapacá) es la segunda más importante del país. Consiste en un desfile de diversos bailes tradicionales con elementos indígenas. Allí los penitentes caminan hasta 10 kilómetros pagando promesa. A la medianoche del 15 de julio se hacen explosiones de fuegos artificiales en todo el país.\nEn todas las iglesias a lo largo de Iberoamérica se inicia un Novenario de vísperas desde el 7 de julio. El día de la Virgen del Carmen se oficia la Santa Misa en su nombre y se realiza la Imposición del escapulario\, promesa de oración fundamental de los devotos a la Virgen.\n\n\n\nVirgen del Carmen – Referencias y Sitios Relacionados\nElenco de recursos sobre la Virgen del Carmen\nwww.corazones.org: Carmen Virgen \n\nwww.corazones.org: Escapulario Carmelita\nwww.virgendelcarmen.cl: Virgen Carmen\nwww.corazones.org: America-Chile\nhttps://www.elconfidencial.com/alma-corazon-vida/2019-07-16/virgen-carmen-historia-16julio_2127367\nhttps://opusdei.org/es-co/article/historia-de-la-virgen-del-carmen
URL:https://www.religionyescuela.com/evento/virgen-del-carmen/
CATEGORIES:Santoral
ATTACH;FMTTYPE=image/jpeg:https://www.religionyescuela.com/wp-content/uploads/2024/06/f.elconfidencial.com_original_4ff_54a_968_4ff54a968f8b4d3548694481cdbc5a681.jpg
END:VEVENT
END:VCALENDAR