BEGIN:VCALENDAR
VERSION:2.0
PRODID:-//Religión y Escuela - ECPv6.15.12.2//NONSGML v1.0//EN
CALSCALE:GREGORIAN
METHOD:PUBLISH
X-WR-CALNAME:Religión y Escuela
X-ORIGINAL-URL:https://www.religionyescuela.com
X-WR-CALDESC:Eventos para Religión y Escuela
REFRESH-INTERVAL;VALUE=DURATION:PT1H
X-Robots-Tag:noindex
X-PUBLISHED-TTL:PT1H
BEGIN:VTIMEZONE
TZID:Europe/Madrid
BEGIN:DAYLIGHT
TZOFFSETFROM:+0100
TZOFFSETTO:+0200
TZNAME:CEST
DTSTART:20240331T010000
END:DAYLIGHT
BEGIN:STANDARD
TZOFFSETFROM:+0200
TZOFFSETTO:+0100
TZNAME:CET
DTSTART:20241027T010000
END:STANDARD
BEGIN:DAYLIGHT
TZOFFSETFROM:+0100
TZOFFSETTO:+0200
TZNAME:CEST
DTSTART:20250330T010000
END:DAYLIGHT
BEGIN:STANDARD
TZOFFSETFROM:+0200
TZOFFSETTO:+0100
TZNAME:CET
DTSTART:20251026T010000
END:STANDARD
BEGIN:DAYLIGHT
TZOFFSETFROM:+0100
TZOFFSETTO:+0200
TZNAME:CEST
DTSTART:20260329T010000
END:DAYLIGHT
BEGIN:STANDARD
TZOFFSETFROM:+0200
TZOFFSETTO:+0100
TZNAME:CET
DTSTART:20261025T010000
END:STANDARD
END:VTIMEZONE
BEGIN:VEVENT
DTSTART;VALUE=DATE:20251208
DTEND;VALUE=DATE:20251209
DTSTAMP:20260421T164519
CREATED:20231109T110031Z
LAST-MODIFIED:20250429T105846Z
UID:12926-1765152000-1765238399@www.religionyescuela.com
SUMMARY:Día de La Inmaculada Concepción
DESCRIPTION:El Día de la Inmaculada Concepción celebra que María ha nacido sin pecado original concebida. María es llamada por Dios para ser madre de su hijo y por tanto colaboradora en la salvación de la humanidad por parte de Cristo. Al igual que la Asunción de María\, aunque este episodio no aparece explícitamente en los evangelios\, la tradición lo reconoce como una consecuencia de la encarnación del hijo de Dios. Un hecho bíblico que se revela en la afirmación del Arcángel Gabriel Alégrate\, llena de gracia\, el Señor está contigo (Lucas 1\, 30). Esta festividad es una de las cuatro mayores celebraciones de María y se celebra los 8 de diciembre. Sin embargo\, la fiesta inicia en la misa del 7. \nPuedes consultar este artículo sobre el santoral de la Inmaculada Concepción. \nRecursos didácticos: \n\nActividades y juegos en wordwall\nRecursos para el día de la Inmaculada Concepción\nElenco de recursos para trabajar la Inmaculada\nManualidades para la Inmaculada \nManualidades sobre la Inmaculada Concepción\nPara trabajar la Inmaculada Concepción
URL:https://www.religionyescuela.com/evento/dia-de-la-inmaculada-concepcion/
CATEGORIES:Pastoral,Santoral
ATTACH;FMTTYPE=image/png:https://www.religionyescuela.com/wp-content/uploads/2023/11/maria_papel1.png
END:VEVENT
END:VCALENDAR