BEGIN:VCALENDAR
VERSION:2.0
PRODID:-//Religión y Escuela - ECPv6.15.12.2//NONSGML v1.0//EN
CALSCALE:GREGORIAN
METHOD:PUBLISH
X-ORIGINAL-URL:https://www.religionyescuela.com
X-WR-CALDESC:Eventos para Religión y Escuela
REFRESH-INTERVAL;VALUE=DURATION:PT1H
X-Robots-Tag:noindex
X-PUBLISHED-TTL:PT1H
BEGIN:VTIMEZONE
TZID:Europe/Madrid
BEGIN:DAYLIGHT
TZOFFSETFROM:+0100
TZOFFSETTO:+0200
TZNAME:CEST
DTSTART:20250330T010000
END:DAYLIGHT
BEGIN:STANDARD
TZOFFSETFROM:+0200
TZOFFSETTO:+0100
TZNAME:CET
DTSTART:20251026T010000
END:STANDARD
BEGIN:DAYLIGHT
TZOFFSETFROM:+0100
TZOFFSETTO:+0200
TZNAME:CEST
DTSTART:20260329T010000
END:DAYLIGHT
BEGIN:STANDARD
TZOFFSETFROM:+0200
TZOFFSETTO:+0100
TZNAME:CET
DTSTART:20261025T010000
END:STANDARD
BEGIN:DAYLIGHT
TZOFFSETFROM:+0100
TZOFFSETTO:+0200
TZNAME:CEST
DTSTART:20270328T010000
END:DAYLIGHT
BEGIN:STANDARD
TZOFFSETFROM:+0200
TZOFFSETTO:+0100
TZNAME:CET
DTSTART:20271031T010000
END:STANDARD
END:VTIMEZONE
BEGIN:VEVENT
DTSTART;VALUE=DATE:20260102
DTEND;VALUE=DATE:20260103
DTSTAMP:20260421T121232
CREATED:20211214T111615Z
LAST-MODIFIED:20250505T080927Z
UID:8463-1767312000-1767398399@www.religionyescuela.com
SUMMARY:San Gregorio Nacianceno
DESCRIPTION:Gregorio Nacianceno –de Nacianzo\, en Turquía– nació en esta misma ciudad en el año 329 y murió en 389.\nEs conocido también como Gregorio el Teólogo.\nFue arzobispo de Constantinopla.\nSufrió mucho por difamaciones y enfrentamientos con los que mantenían posturas erróneas en torno a la fe. Es uno de los más grandes padres y doctores de la Iglesia. Su doctrina sobre la Trinidad\, es decir\, las relaciones entre el Padre\, el Hijo y el Espíritu Santo son fundamentales para la Teología. Escribió 45 discursos\, 244 cartas y más de 400 poemas.
URL:https://www.religionyescuela.com/evento/san-gregorio-nacianceno/
CATEGORIES:Material,Santoral
ATTACH;FMTTYPE=image/jpeg:https://www.religionyescuela.com/wp-content/uploads/2021/12/san-gregorio.jpg
END:VEVENT
END:VCALENDAR