BEGIN:VCALENDAR
VERSION:2.0
PRODID:-//Religión y Escuela - ECPv6.15.12.2//NONSGML v1.0//EN
CALSCALE:GREGORIAN
METHOD:PUBLISH
X-ORIGINAL-URL:https://www.religionyescuela.com
X-WR-CALDESC:Eventos para Religión y Escuela
REFRESH-INTERVAL;VALUE=DURATION:PT1H
X-Robots-Tag:noindex
X-PUBLISHED-TTL:PT1H
BEGIN:VTIMEZONE
TZID:Europe/Madrid
BEGIN:DAYLIGHT
TZOFFSETFROM:+0100
TZOFFSETTO:+0200
TZNAME:CEST
DTSTART:20250330T010000
END:DAYLIGHT
BEGIN:STANDARD
TZOFFSETFROM:+0200
TZOFFSETTO:+0100
TZNAME:CET
DTSTART:20251026T010000
END:STANDARD
BEGIN:DAYLIGHT
TZOFFSETFROM:+0100
TZOFFSETTO:+0200
TZNAME:CEST
DTSTART:20260329T010000
END:DAYLIGHT
BEGIN:STANDARD
TZOFFSETFROM:+0200
TZOFFSETTO:+0100
TZNAME:CET
DTSTART:20261025T010000
END:STANDARD
BEGIN:DAYLIGHT
TZOFFSETFROM:+0100
TZOFFSETTO:+0200
TZNAME:CEST
DTSTART:20270328T010000
END:DAYLIGHT
BEGIN:STANDARD
TZOFFSETFROM:+0200
TZOFFSETTO:+0100
TZNAME:CET
DTSTART:20271031T010000
END:STANDARD
END:VTIMEZONE
BEGIN:VEVENT
DTSTART;VALUE=DATE:20260214
DTEND;VALUE=DATE:20260215
DTSTAMP:20260421T172205
CREATED:20220208T071609Z
LAST-MODIFIED:20250505T100229Z
UID:8915-1771027200-1771113599@www.religionyescuela.com
SUMMARY:San Valentín
DESCRIPTION:Esta fecha\, ha adoptado distintos nombres\, Día de San Valentín\, Día de los enamorados o Día del amor y la amistad\, pero ¿cuál es el origen de esta celebración tan particular? \nEsta festividad\, asimilada por la iglesia católica\, se remonta al siglo III en Roma\, donde un sacerdote llamado Valentín se opuso a la orden del emperador Claudio II\, quien decidió prohibir la celebración de matrimonios para los jóvenes\, considerando que los solteros sin familia eran mejores soldados\, ya que tenían menos ataduras y vínculos sentimentales. \nValentín\, opuesto al decreto del emperador\, comenzó a celebrar en secreto matrimonios para jóvenes enamorados (de ahí se popularizó que San Valentín sea el patrón de los enamorados). \nAl enterarse\, Claudio II sentenció a muerte a San Valentín\, el 14 de febrero del año 270\, alegando desobediencia y rebeldía. Por este motivo\, se conmemora todos los años el Día de San Valentín. \n 
URL:https://www.religionyescuela.com/evento/san-valentin/
CATEGORIES:Santoral
ATTACH;FMTTYPE=image/jpeg:https://www.religionyescuela.com/wp-content/uploads/2022/02/san-valentin.jpg
END:VEVENT
BEGIN:VEVENT
DTSTART;VALUE=DATE:20260214
DTEND;VALUE=DATE:20260215
DTSTAMP:20260421T172205
CREATED:20230205T130627Z
LAST-MODIFIED:20250922T094957Z
UID:11719-1771027200-1771113599@www.religionyescuela.com
SUMMARY:Recursos didácticos para San Valentín
DESCRIPTION:San Valentín es uno de los santos que más se celebran\, un día para celebrar el AMOR con mayúsculas\, amor de pareja\, de amigos\, de hermanos\, de familia… Un día bonito para decirle a la persona que está a nuestro lado lo mucho que la queremos. \nRecursos para trabajar en el aula: \nElenco de recursos para trabajar el día de los enamorados o San Valentín \nDistintas actividades: cariñograma\, buzón del amor y la amistad\, manualidades\, etc. para San Valentín \nACTIVIDADES PARA EL DÍA DE SAN VALENTÍN \n«LOVE IS IN THE AIR»: San Valentín \nActividades para San Valentín en orientacionandujar \nCoeducando en Secundaria: San Valentín y el amor
URL:https://www.religionyescuela.com/evento/recursos-didacticos-para-san-valentin/
CATEGORIES:Material,Santoral
ATTACH;FMTTYPE=image/jpeg:https://www.religionyescuela.com/wp-content/uploads/2023/02/sanvalentin.jpg
END:VEVENT
END:VCALENDAR