BEGIN:VCALENDAR
VERSION:2.0
PRODID:-//Religión y Escuela - ECPv6.15.12.2//NONSGML v1.0//EN
CALSCALE:GREGORIAN
METHOD:PUBLISH
X-WR-CALNAME:Religión y Escuela
X-ORIGINAL-URL:https://www.religionyescuela.com
X-WR-CALDESC:Eventos para Religión y Escuela
REFRESH-INTERVAL;VALUE=DURATION:PT1H
X-Robots-Tag:noindex
X-PUBLISHED-TTL:PT1H
BEGIN:VTIMEZONE
TZID:Europe/Madrid
BEGIN:DAYLIGHT
TZOFFSETFROM:+0100
TZOFFSETTO:+0200
TZNAME:CEST
DTSTART:20240331T010000
END:DAYLIGHT
BEGIN:STANDARD
TZOFFSETFROM:+0200
TZOFFSETTO:+0100
TZNAME:CET
DTSTART:20241027T010000
END:STANDARD
BEGIN:DAYLIGHT
TZOFFSETFROM:+0100
TZOFFSETTO:+0200
TZNAME:CEST
DTSTART:20250330T010000
END:DAYLIGHT
BEGIN:STANDARD
TZOFFSETFROM:+0200
TZOFFSETTO:+0100
TZNAME:CET
DTSTART:20251026T010000
END:STANDARD
BEGIN:DAYLIGHT
TZOFFSETFROM:+0100
TZOFFSETTO:+0200
TZNAME:CEST
DTSTART:20260329T010000
END:DAYLIGHT
BEGIN:STANDARD
TZOFFSETFROM:+0200
TZOFFSETTO:+0100
TZNAME:CET
DTSTART:20261025T010000
END:STANDARD
END:VTIMEZONE
BEGIN:VEVENT
DTSTART;VALUE=DATE:20251019
DTEND;VALUE=DATE:20251020
DTSTAMP:20260420T082820
CREATED:20231017T082857Z
LAST-MODIFIED:20250429T102121Z
UID:12817-1760832000-1760918399@www.religionyescuela.com
SUMMARY:Domund
DESCRIPTION:El Domund es el nombre que da España a la Jornada Mundial de las Misiones convocada por el Papa para acercar a todos a la misión. El lema de este año es “Corazones ardientes\, pies en camino”. Obras Misionales Pontificias (OMP) sigue reforzando su propuesta digital con el lanzamiento de la página www.domund.es y el vídeo de la campaña\, centrado en Benín y en la figura de Saturnino Pasero\, un misionero que ha estado allí casi 40 años. \nObras Misionales Pontificias (OMP) comienza la campaña del Domund 2023 con el lanzamiento de la nueva versión de la web www.domund.es. España cuenta con más de 10.000 misioneros\, personas que han decidido dejar la comodidad de España y ponerse a disposición de la iglesia para llevar el evangelio a los rincones del mundo. Con el lema “Corazones ardientes\, pies en camino”\, OMP quiere reflejar ese espíritu misionero. \nEl vídeo del Domund este año está protagonizado por Saturnino Pasero. Él es un misionero que se fue a Benín a establecer la misión desde cero\, con la voluntad de “estar presente en las zonas en las que el Evangelio no había sido anunciado todavía”. Más de 40 años después\, nos cuenta cómo el trabajo de los misioneros ha dado fruto y la Iglesia ha conseguido arraigarse en Benín. \nEl Domund es una llamada a la responsabilidad de todos los cristianos en la evangelización. Es el día en que la Iglesia lanza una especial invitación a amar y apoyar la causa misionera\, ayudando a los misioneros.\nLos misioneros dan a conocer a todos el mensaje de Jesús\, especialmente en aquellos lugares del mundo donde el Evangelio está en sus comienzos y la Iglesia aún no está asentada. \nLos 1117 territorios de misión\, dependen de las ayudas del Domund. La Iglesia apoya equitativamente a todas las misiones\, sin importar la congregación o nacionalidad de sus misioneros\, cuidando de una manera especial aquellas que tienen más necesidades. \nEste año el Domund cumple 200 años al servicio de la misión. \n  \n \nMateriales para trabajar con los alumnos
URL:https://www.religionyescuela.com/evento/domund-2/
CATEGORIES:Eventos,Formación,Material,Pastoral
ATTACH;FMTTYPE=image/jpeg:https://www.religionyescuela.com/wp-content/uploads/2023/10/851x314.jpg
END:VEVENT
END:VCALENDAR