BEGIN:VCALENDAR
VERSION:2.0
PRODID:-//Religión y Escuela - ECPv6.15.12.2//NONSGML v1.0//EN
CALSCALE:GREGORIAN
METHOD:PUBLISH
X-ORIGINAL-URL:https://www.religionyescuela.com
X-WR-CALDESC:Eventos para Religión y Escuela
REFRESH-INTERVAL;VALUE=DURATION:PT1H
X-Robots-Tag:noindex
X-PUBLISHED-TTL:PT1H
BEGIN:VTIMEZONE
TZID:Europe/Madrid
BEGIN:DAYLIGHT
TZOFFSETFROM:+0100
TZOFFSETTO:+0200
TZNAME:CEST
DTSTART:20250330T010000
END:DAYLIGHT
BEGIN:STANDARD
TZOFFSETFROM:+0200
TZOFFSETTO:+0100
TZNAME:CET
DTSTART:20251026T010000
END:STANDARD
BEGIN:DAYLIGHT
TZOFFSETFROM:+0100
TZOFFSETTO:+0200
TZNAME:CEST
DTSTART:20260329T010000
END:DAYLIGHT
BEGIN:STANDARD
TZOFFSETFROM:+0200
TZOFFSETTO:+0100
TZNAME:CET
DTSTART:20261025T010000
END:STANDARD
BEGIN:DAYLIGHT
TZOFFSETFROM:+0100
TZOFFSETTO:+0200
TZNAME:CEST
DTSTART:20270328T010000
END:DAYLIGHT
BEGIN:STANDARD
TZOFFSETFROM:+0200
TZOFFSETTO:+0100
TZNAME:CET
DTSTART:20271031T010000
END:STANDARD
END:VTIMEZONE
BEGIN:VEVENT
DTSTART;VALUE=DATE:20260402
DTEND;VALUE=DATE:20260403
DTSTAMP:20260420T003631
CREATED:20240403T093411Z
LAST-MODIFIED:20260226T095135Z
UID:14244-1775088000-1775174399@www.religionyescuela.com
SUMMARY:Día Mundial de Concienciación sobre el Autismo
DESCRIPTION:En 2007\, la Asamblea General de las Naciones Unidas instauró el 2 de abril como Día Mundial de Concienciación sobre el Autismo con el objetivo de poner de relieve la necesidad de contribuir a mejorar la calidad de vida de las personas con trastorno del espectro del autismo (TEA) y promover su participación en todos los ámbitos de la sociedad como ciudadanos y ciudadanas de pleno derecho. \nRecursos para el aula: \n\nMateriales de diamundialautismo.com\nExcelentes recursos elaborados por nuestra compañera Beatriz Martínez\nReligión para la clase de Educación Especial\nElenco de materiales con pictogramas\n¿Cómo elaborar materiales para personas con TEA?\nRecursos para alumnos con Trastorno del Espectro del Autismo (TEA)\nHerramientas TIC para el alumnado con autismo
URL:https://www.religionyescuela.com/evento/dia-mundial-de-concienciacion-sobre-el-autismo/
CATEGORIES:Eventos,Material
ATTACH;FMTTYPE=image/png:https://www.religionyescuela.com/wp-content/uploads/2024/04/symbol-of-infinity-of-autism-1192408_960_7201.png
END:VEVENT
END:VCALENDAR