BEGIN:VCALENDAR
VERSION:2.0
PRODID:-//Religión y Escuela - ECPv6.15.12.2//NONSGML v1.0//EN
CALSCALE:GREGORIAN
METHOD:PUBLISH
X-ORIGINAL-URL:https://www.religionyescuela.com
X-WR-CALDESC:Eventos para Religión y Escuela
REFRESH-INTERVAL;VALUE=DURATION:PT1H
X-Robots-Tag:noindex
X-PUBLISHED-TTL:PT1H
BEGIN:VTIMEZONE
TZID:Europe/Madrid
BEGIN:DAYLIGHT
TZOFFSETFROM:+0100
TZOFFSETTO:+0200
TZNAME:CEST
DTSTART:20250330T010000
END:DAYLIGHT
BEGIN:STANDARD
TZOFFSETFROM:+0200
TZOFFSETTO:+0100
TZNAME:CET
DTSTART:20251026T010000
END:STANDARD
BEGIN:DAYLIGHT
TZOFFSETFROM:+0100
TZOFFSETTO:+0200
TZNAME:CEST
DTSTART:20260329T010000
END:DAYLIGHT
BEGIN:STANDARD
TZOFFSETFROM:+0200
TZOFFSETTO:+0100
TZNAME:CET
DTSTART:20261025T010000
END:STANDARD
BEGIN:DAYLIGHT
TZOFFSETFROM:+0100
TZOFFSETTO:+0200
TZNAME:CEST
DTSTART:20270328T010000
END:DAYLIGHT
BEGIN:STANDARD
TZOFFSETFROM:+0200
TZOFFSETTO:+0100
TZNAME:CET
DTSTART:20271031T010000
END:STANDARD
END:VTIMEZONE
BEGIN:VEVENT
DTSTART;VALUE=DATE:20260329
DTEND;VALUE=DATE:20260406
DTSTAMP:20260419T205825
CREATED:20240108T095621Z
LAST-MODIFIED:20260226T100329Z
UID:13550-1774742400-1775433599@www.religionyescuela.com
SUMMARY:Semana Santa
DESCRIPTION:¿Qué debemos hacer en Semana Santa?\n\n\n\nDurante la Semana Santa\, los fieles pueden ir a Misa y participar de las celebraciones que ofrecen sus parroquias como el rezo del Vía Crucis. \nAdemás\, cada uno puede conmemorar la Semana Santa en su casa. Se pueden leer las Escrituras\, en particular los pasajes que relatan los sucesos del Domingo de Ramos hasta el Viernes Santo. También pueden rezarse los Misterios dolorosos del Rosario. \nTambién es una buena semana para rezar la Coronilla de la Divina Misericordia –toda la Cuaresma es buen momento para esto- y el Viernes Santo puede comenzarse la Novena de la Divina Misericordia para prepararse para el Domingo de la Divina Misericordia. El Señor pidió a Santa Faustina que se rezaran estas devociones para que las gracias de la Redención se derramaran más abundantemente en las almas. \n\n\n\n\n\n\n\n\n\n¿Cuál es el significado de la Semana Santa?\n\n\n\nLa Semana Santa\, en particular la Pasión y Muerte de Cristo\, nos recuerda el Amor de Dios por la humanidad. En su párrafo 604\, el Catecismo de la Iglesia Católica nos dice: \nAl entregar a su Hijo por nuestros pecados\, Dios manifiesta que su designio sobre nosotros es un designio de amor benevolente que precede a todo mérito por nuestra parte: «En esto consiste el amor: no en que nosotros hayamos amado a Dios\, sino en que él nos amó y nos envió a su Hijo como propiciación por nuestros pecados». «La prueba de que Dios nos ama es que Cristo\, siendo nosotros todavía pecadores\, murió por nosotros». \n¿Por qué se la llama Semana de la Pasión?\nEs la semana en que reflexionamos acerca de la Pasión y Muerte del Señor Jesús\, comenzando con el Evangelio del Domingo de Ramos que relata los hechos de la Pascua del Señor. \n\n\n\n\n\n\n\n\n\n¿Cuáles son los cinco días de la Semana Santa?\n\n\n\nLa Semana Santa incluye el Domingo de Ramos (también referido como Domingo de la Pasión)\, Lunes Santo\, Martes Santo\, Miércoles Santo (a veces\, también referido en inglés como ‘Spy Wednesday’ por las negociaciones para la traición de Judas con los judíos)\, Jueves Santo (también referido en inglés como ‘Maundy Thursday’ en referencia al mandato de amor de Jesús a los discípulos)\, Viernes Santo y Sábado Santo; son los días que preceden al Domingo de Pascua. \nDesde la Misa de la Última Cena el Jueves Santo\, la Iglesia se refiere también a estos días como el Triduo Pascual o Sagrado. \n¿Cuál es el día más importante de la Semana Santa?\nEl más importante de los sucesos para los cristianos es la muerte y la Resurrección de Jesucristo. El Viernes Santo\, recordamos con pesar la muerte del Salvador. El Domingo de Pascua\, celebramos exultantes Su triunfo sobre la muerte. \nRecursos didácticos:\n\n\nRecursos para semana santa\nElenco de recursos para semana santa 1\nElenco de recursos para semana santa 2\nJuegos para semana santa (wordwall)\nRecursos interactivos para celebrar la Semana Santa\nRecursos para Semana Santa\nBanco de recursos para trabajar la semana santa
URL:https://www.religionyescuela.com/evento/semana-santa/
CATEGORIES:Material,Pastoral
ATTACH;FMTTYPE=image/jpeg:https://www.religionyescuela.com/wp-content/uploads/2024/01/3-DERAMOSAPASCUA1.jpg
END:VEVENT
BEGIN:VEVENT
DTSTART;VALUE=DATE:20260405
DTEND;VALUE=DATE:20260406
DTSTAMP:20260419T205825
CREATED:20240108T100639Z
LAST-MODIFIED:20260226T100950Z
UID:13553-1775347200-1775433599@www.religionyescuela.com
SUMMARY:Pascua
DESCRIPTION:Es el misterio más grande de nuestra fe\, ya que con ella adquiere todo sentido. San Pablo nos dice: “Y si no resucitó Cristo\, vacía es nuestra predicación\, vacía también vuestra fe…Y si Cristo no resucitó\, vuestra fe es vana…” (1 Corintios 15\,14-17). \nEs el «paso» del Señor\, el paso de la muerte a la vida. Él ha vencido a la muerte y al pecado\, nos ha redimido ¡Cristo está vivo!. \nLa Pascua de Cristo es también nuestra Pascua «en la muerte de Cristo nuestra muerte ha sido vencida y en su resurrección\, resucitamos todos» (Prefacio II de Pascua). \nDamos término de este modo a la Semana Santa\, comenzando así un período\, al que llamamos Tiempo Pascual. Este tiempo se celebra durante cincuenta días\, finalizando el Domingo de Pentecostés. \nLas celebraciones giran en torno a Cristo resucitado\, junto a sus discípulos antes de subir a los cielos; hecho que ocurrirá a los cuarenta días\, dando lugar a la celebración de la Ascensión del Señor. \nLos días restantes\, nos iremos preparando para la venida del Espíritu Santo (Domingo de Pentecostés)\, que dará termino a este tiempo pascual. \nRecursos didácticos:\n\nJuegos para Pascua (Wordwall)\nRecursos para Pascua (Twinkl)\nMás de 400 recursos para Pascua\nElenco de recursos para Pascua 1\nElenco de recursos para Pascua 2\nPropuestas didácticas para Pascua\nBanco de recursos para Pascua\nMaterial para Pascua\nRecursos para Pascua (Infantil)\n12 Recursos de Pascua\nMultitud de recursos pastoral para la Pascua\nMás de 400 recursos para Pascua\nOtros recursos para vivir la Pascua\nRecursos para el tiempo pascual
URL:https://www.religionyescuela.com/evento/pascua-2/
CATEGORIES:Material,Pastoral
ATTACH;FMTTYPE=image/jpeg:https://www.religionyescuela.com/wp-content/uploads/2022/05/pascua.jpg
END:VEVENT
END:VCALENDAR