BEGIN:VCALENDAR
VERSION:2.0
PRODID:-//Religión y Escuela - ECPv6.15.12.2//NONSGML v1.0//EN
CALSCALE:GREGORIAN
METHOD:PUBLISH
X-ORIGINAL-URL:https://www.religionyescuela.com
X-WR-CALDESC:Eventos para Religión y Escuela
REFRESH-INTERVAL;VALUE=DURATION:PT1H
X-Robots-Tag:noindex
X-PUBLISHED-TTL:PT1H
BEGIN:VTIMEZONE
TZID:Europe/Madrid
BEGIN:DAYLIGHT
TZOFFSETFROM:+0100
TZOFFSETTO:+0200
TZNAME:CEST
DTSTART:20250330T010000
END:DAYLIGHT
BEGIN:STANDARD
TZOFFSETFROM:+0200
TZOFFSETTO:+0100
TZNAME:CET
DTSTART:20251026T010000
END:STANDARD
BEGIN:DAYLIGHT
TZOFFSETFROM:+0100
TZOFFSETTO:+0200
TZNAME:CEST
DTSTART:20260329T010000
END:DAYLIGHT
BEGIN:STANDARD
TZOFFSETFROM:+0200
TZOFFSETTO:+0100
TZNAME:CET
DTSTART:20261025T010000
END:STANDARD
BEGIN:DAYLIGHT
TZOFFSETFROM:+0100
TZOFFSETTO:+0200
TZNAME:CEST
DTSTART:20270328T010000
END:DAYLIGHT
BEGIN:STANDARD
TZOFFSETFROM:+0200
TZOFFSETTO:+0100
TZNAME:CET
DTSTART:20271031T010000
END:STANDARD
END:VTIMEZONE
BEGIN:VEVENT
DTSTART;VALUE=DATE:20260415
DTEND;VALUE=DATE:20260416
DTSTAMP:20260419T205815
CREATED:20240418T091841Z
LAST-MODIFIED:20260226T100347Z
UID:14365-1776211200-1776297599@www.religionyescuela.com
SUMMARY:Día Mundial del Arte
DESCRIPTION:Desde el año 2012 se viene celebrando cada 15 de abril el Día Mundial del Arte\, una fecha que busca dar a conocer la importancia que tiene el arte y sobre todo el pensamiento creativo\, para la evolución del pensamiento humano y la resolución de los problemas que nos aquejan. \nLa celebración la propuso la Asociación Internacional de Artes Plásticas (AIAP) y fue a partir de 2019 cuando se oficializó por parte de la UNESCO. La proclamación oficial del Día Mundial del Arte tuvo lugar en la 40 reunión de la Conferencia General de la UNESCO el 12 de noviembre de 2019. \nRecursos para el aula: \n\n¿Por qué se celebra el 15 de abril el Día Mundial del Arte?\nVídeo destacado\nImportancia del arte para la Humanidad\nPelículas sobre el mundo del arte\n¿Cómo celebrar el Día Mundial del Arte?\nElenco de recurso sobre arte y religión\nEl arte en Religión\nEl aporte pedagógico del arte religioso a la educación\nUsar el arte en la clase de Religión\, un recurso pedagógico\nVisita virtual del Pórtico de la Gloria\nExplorando el arte y su conexión con la historia y la religión\nUna clase de Religión con mucho arte\nReliarte\, un recurso desde el que educar en clase de Religión.\nARTETERAPIA EN CLASE DE RELIGIÓN; NOS AYUDA A CONECTAR CON DIOS\nLas Artes como recurso didáctico en la Clase de Religión (parte 1)\nLas Artes como recurso didáctico en la Clase de Religión (parte 2)\nJuegos sobre arte y religión en la PradoMedia\nArte y el Juego dramático para la clase de Religión.
URL:https://www.religionyescuela.com/evento/dia-mundial-del-arte/
CATEGORIES:Eventos,Material
ATTACH;FMTTYPE=image/jpeg:https://www.religionyescuela.com/wp-content/uploads/2024/04/WhatsApp-Image-2024-04-16-at-22.40.19.jpeg
END:VEVENT
END:VCALENDAR