BEGIN:VCALENDAR
VERSION:2.0
PRODID:-//Religión y Escuela - ECPv6.15.12.2//NONSGML v1.0//EN
CALSCALE:GREGORIAN
METHOD:PUBLISH
X-WR-CALNAME:Religión y Escuela
X-ORIGINAL-URL:https://www.religionyescuela.com
X-WR-CALDESC:Eventos para Religión y Escuela
REFRESH-INTERVAL;VALUE=DURATION:PT1H
X-Robots-Tag:noindex
X-PUBLISHED-TTL:PT1H
BEGIN:VTIMEZONE
TZID:Europe/Madrid
BEGIN:DAYLIGHT
TZOFFSETFROM:+0100
TZOFFSETTO:+0200
TZNAME:CEST
DTSTART:20240331T010000
END:DAYLIGHT
BEGIN:STANDARD
TZOFFSETFROM:+0200
TZOFFSETTO:+0100
TZNAME:CET
DTSTART:20241027T010000
END:STANDARD
BEGIN:DAYLIGHT
TZOFFSETFROM:+0100
TZOFFSETTO:+0200
TZNAME:CEST
DTSTART:20250330T010000
END:DAYLIGHT
BEGIN:STANDARD
TZOFFSETFROM:+0200
TZOFFSETTO:+0100
TZNAME:CET
DTSTART:20251026T010000
END:STANDARD
BEGIN:DAYLIGHT
TZOFFSETFROM:+0100
TZOFFSETTO:+0200
TZNAME:CEST
DTSTART:20260329T010000
END:DAYLIGHT
BEGIN:STANDARD
TZOFFSETFROM:+0200
TZOFFSETTO:+0100
TZNAME:CET
DTSTART:20261025T010000
END:STANDARD
END:VTIMEZONE
BEGIN:VEVENT
DTSTART;VALUE=DATE:20251113
DTEND;VALUE=DATE:20251114
DTSTAMP:20260422T073136
CREATED:20221104T103356Z
LAST-MODIFIED:20250505T090214Z
UID:10847-1762992000-1763078399@www.religionyescuela.com
SUMMARY:Jornada mundial de los pobres
DESCRIPTION:Esta Jornada Mundial de los Pobres que convoca el papa Francisco se presenta con la intención y el deseo de ayudarnos a reflexionar sobre nuestro estilo de vida\, sobre el tipo de decisiones y gestos que vamos realizando en nuestra vida cotidiana\, y en cómo afecta e influye en las vidas de nuestras hermanas y hermanos más pobres\, y en nuestra relación con ellos. Bajo el lema «Jesucristo se hizo pobre por vosotros»\, Francisco viene a recordarnos una vez más la importancia de la opción preferencial de Jesús por los más pobres y vulnerables\, eje central que da sentido a su vida y misión. \nPara esta jornada se propone por una parte\, activar la sensibilización y la animación de la comunidad cristiana acercando la realidad de la pobreza y la exclusión por las propias personas afectadas y por los agentes de caridad de Cáritas y de otras instituciones eclesiales.\nPor otra\, además de conocer algo de la realidad de estas personas\, de cómo se desarrollan los proyectos sociales o qué actividades realizan —que esto siempre es necesario—\, promover el diálogo y el encuentro en la comunidad\, escuchar y descubrir en común cómo responder a las necesidades que la realidad de pobreza y la exclusión plantea.
URL:https://www.religionyescuela.com/evento/jornada-mundial-de-los-pobres/
CATEGORIES:Eventos
ATTACH;FMTTYPE=image/jpeg:https://www.religionyescuela.com/wp-content/uploads/2022/11/Jornada-Mundial-de-los-Pobres-2022-1.jpg
END:VEVENT
END:VCALENDAR