BEGIN:VCALENDAR
VERSION:2.0
PRODID:-//Religión y Escuela - ECPv6.15.12.2//NONSGML v1.0//EN
CALSCALE:GREGORIAN
METHOD:PUBLISH
X-ORIGINAL-URL:https://www.religionyescuela.com
X-WR-CALDESC:Eventos para Religión y Escuela
REFRESH-INTERVAL;VALUE=DURATION:PT1H
X-Robots-Tag:noindex
X-PUBLISHED-TTL:PT1H
BEGIN:VTIMEZONE
TZID:Europe/Madrid
BEGIN:DAYLIGHT
TZOFFSETFROM:+0100
TZOFFSETTO:+0200
TZNAME:CEST
DTSTART:20250330T010000
END:DAYLIGHT
BEGIN:STANDARD
TZOFFSETFROM:+0200
TZOFFSETTO:+0100
TZNAME:CET
DTSTART:20251026T010000
END:STANDARD
BEGIN:DAYLIGHT
TZOFFSETFROM:+0100
TZOFFSETTO:+0200
TZNAME:CEST
DTSTART:20260329T010000
END:DAYLIGHT
BEGIN:STANDARD
TZOFFSETFROM:+0200
TZOFFSETTO:+0100
TZNAME:CET
DTSTART:20261025T010000
END:STANDARD
BEGIN:DAYLIGHT
TZOFFSETFROM:+0100
TZOFFSETTO:+0200
TZNAME:CEST
DTSTART:20270328T010000
END:DAYLIGHT
BEGIN:STANDARD
TZOFFSETFROM:+0200
TZOFFSETTO:+0100
TZNAME:CET
DTSTART:20271031T010000
END:STANDARD
END:VTIMEZONE
BEGIN:VEVENT
DTSTART;VALUE=DATE:20260218
DTEND;VALUE=DATE:20260219
DTSTAMP:20260419T224147
CREATED:20240108T094337Z
LAST-MODIFIED:20250429T112019Z
UID:13546-1771372800-1771459199@www.religionyescuela.com
SUMMARY:Cuaresma
DESCRIPTION:Comienza el miércoles\, 5 de marzo de 2025 y dura hasta el jueves\, 17 de abril de 2025 \nRecursos para cuaresma: \n\nLa cuaresma (Twinkl)\nMaterial para cuaresma y pascua\nRecursos para cuaresma (Wordwall)\nElenco de recursos para Cuaresma\nRecursos para cuaresma (ReliArtes)\nRecursos digitales para Cuaresma\nElenco de recursos para Cuaresma 1\nElenco de recursos para Cuaresma 2\nPasatiempos y recursos para cuaresma\n\nDescargar\n  \n\nDescargar\n  \nDescargar\n  \nDescargar\n  \nDescargar
URL:https://www.religionyescuela.com/evento/cuaresma/
CATEGORIES:Material,Pastoral
ATTACH;FMTTYPE=image/jpeg:https://www.religionyescuela.com/wp-content/uploads/2024/01/0-juegocuaresma21.jpg
END:VEVENT
END:VCALENDAR