BEGIN:VCALENDAR
VERSION:2.0
PRODID:-//Religión y Escuela - ECPv6.15.12.2//NONSGML v1.0//EN
CALSCALE:GREGORIAN
METHOD:PUBLISH
X-ORIGINAL-URL:https://www.religionyescuela.com
X-WR-CALDESC:Eventos para Religión y Escuela
REFRESH-INTERVAL;VALUE=DURATION:PT1H
X-Robots-Tag:noindex
X-PUBLISHED-TTL:PT1H
BEGIN:VTIMEZONE
TZID:Europe/Madrid
BEGIN:DAYLIGHT
TZOFFSETFROM:+0100
TZOFFSETTO:+0200
TZNAME:CEST
DTSTART:20250330T010000
END:DAYLIGHT
BEGIN:STANDARD
TZOFFSETFROM:+0200
TZOFFSETTO:+0100
TZNAME:CET
DTSTART:20251026T010000
END:STANDARD
BEGIN:DAYLIGHT
TZOFFSETFROM:+0100
TZOFFSETTO:+0200
TZNAME:CEST
DTSTART:20260329T010000
END:DAYLIGHT
BEGIN:STANDARD
TZOFFSETFROM:+0200
TZOFFSETTO:+0100
TZNAME:CET
DTSTART:20261025T010000
END:STANDARD
BEGIN:DAYLIGHT
TZOFFSETFROM:+0100
TZOFFSETTO:+0200
TZNAME:CEST
DTSTART:20270328T010000
END:DAYLIGHT
BEGIN:STANDARD
TZOFFSETFROM:+0200
TZOFFSETTO:+0100
TZNAME:CET
DTSTART:20271031T010000
END:STANDARD
END:VTIMEZONE
BEGIN:VEVENT
DTSTART;VALUE=DATE:20260303
DTEND;VALUE=DATE:20260304
DTSTAMP:20260419T193059
CREATED:20240227T103926Z
LAST-MODIFIED:20260109T122311Z
UID:13946-1772496000-1772582399@www.religionyescuela.com
SUMMARY:Día Mundial de la Naturaleza
DESCRIPTION:Esta fecha fue elegida por la ONU para conmemorar la aprobación en 1973 de la Convención sobre el Comercio Internacional de Especies Amenazadas de Fauna y Flora Silvestres. Su objetivo es reivindicar y hacer reflexionar a la sociedad acerca del valor que tiene la flora y la fauna que puebla nuestro planeta\, y su influencia en la supervivencia humana. Además\, busca concienciar sobre los peligros que suponen los delitos contra la naturaleza\, cuya repercusión multifactorial afecta a la economía\, la biodiversidad y la sociedad. \nPara conmemorar este día\, es posible recurrir a recursos audiovisuales como películas donde la naturaleza tiene un papel protagonista; libros para que adultos y menores conecten con ella; y visitas virtuales para descubrir espacios naturales desde casa. También proponemos dibujos para colorear\, gymkanas al aire libre\, y juegos online y actividades grupales dentro del aula. Es posible\, incluso\, enseñar al alumnado la fuerza de la naturaleza a través de experimentos o ‘conectarles’ con el medio ambiente mediante actividades de jardinería o en el huerto escolar. \nRecursos para el aula: \n\nARMONÍA Y BELLEZA DE LA CREACIÓN\nLAUDATO SI’ – CUIDANDO NUESTRA CASA COMÚN\n10 CONSEJOS PARA CUIDAR EL MEDIOAMBIENTE\nEl León Jardinero\, un proyecto para Religión y Lengua en EP\nLAUDATO SI\, INTRODUCCIÓN\nRecursos para trabajar Laudato Si
URL:https://www.religionyescuela.com/evento/dia-mundial-de-la-naturaleza/
CATEGORIES:Eventos
ATTACH;FMTTYPE=image/jpeg:https://www.religionyescuela.com/wp-content/uploads/2024/02/cq5dam.thumbnail.cropped.750.4221.jpeg
END:VEVENT
END:VCALENDAR