BEGIN:VCALENDAR
VERSION:2.0
PRODID:-//Religión y Escuela - ECPv6.15.12.2//NONSGML v1.0//EN
CALSCALE:GREGORIAN
METHOD:PUBLISH
X-ORIGINAL-URL:https://www.religionyescuela.com
X-WR-CALDESC:Eventos para Religión y Escuela
REFRESH-INTERVAL;VALUE=DURATION:PT1H
X-Robots-Tag:noindex
X-PUBLISHED-TTL:PT1H
BEGIN:VTIMEZONE
TZID:Europe/Madrid
BEGIN:DAYLIGHT
TZOFFSETFROM:+0100
TZOFFSETTO:+0200
TZNAME:CEST
DTSTART:20250330T010000
END:DAYLIGHT
BEGIN:STANDARD
TZOFFSETFROM:+0200
TZOFFSETTO:+0100
TZNAME:CET
DTSTART:20251026T010000
END:STANDARD
BEGIN:DAYLIGHT
TZOFFSETFROM:+0100
TZOFFSETTO:+0200
TZNAME:CEST
DTSTART:20260329T010000
END:DAYLIGHT
BEGIN:STANDARD
TZOFFSETFROM:+0200
TZOFFSETTO:+0100
TZNAME:CET
DTSTART:20261025T010000
END:STANDARD
BEGIN:DAYLIGHT
TZOFFSETFROM:+0100
TZOFFSETTO:+0200
TZNAME:CEST
DTSTART:20270328T010000
END:DAYLIGHT
BEGIN:STANDARD
TZOFFSETFROM:+0200
TZOFFSETTO:+0100
TZNAME:CET
DTSTART:20271031T010000
END:STANDARD
END:VTIMEZONE
BEGIN:VEVENT
DTSTART;VALUE=DATE:20260319
DTEND;VALUE=DATE:20260320
DTSTAMP:20260419T193017
CREATED:20240223T095511Z
LAST-MODIFIED:20250922T094921Z
UID:13926-1773878400-1773964799@www.religionyescuela.com
SUMMARY:Día del Padre (San José)
DESCRIPTION:En Occidente\, la primera mención a la fiesta de San José tuvo lugar en el año 800\, tal y como se recoge en Vatican News\, la web de noticias oficial de la Ciudad del Vaticano\, donde se explica que el 19 de marzo se recuerda a «Ioseph sponsus Mariae» («José\, esposo de María«). \nEl día de San José conmemora al patrón universal de la Iglesia Católica. San José o José de Nazaret tuvo la gran responsabilidad de ser el esposo de María y asumir la paternidad terrenal de Cristo. Se sabe que era carpintero\, por los primeros capítulos de los evangelios de Mateo y Lucas. Es llamado el Santo del silencio\, porque en los relatos bíblicos no aparece ninguna palabra pronunciada por él; solo su fe\, amor y comprensión por María y Jesús. Lo más probable es que haya muerto antes del inicio del ministerio público de Jesús\, ya que de haber vivido entonces habría estado al pie de la cruz con María. De acuerdo a la costumbre patriarcal de la familia judía\, San José es la cabeza de la Sagrada Familia. Es considerado el modelo de esposo y padre cristiano\, patrón de los trabajadores y de la buena muerte. Su festividad se celebra cada 19 de marzo. \nDespués\, ya en el siglo XII\, los cruzados erigieron una iglesia en su honor en Nazaret\, aunque no sería hasta el siglo XV cuando el culto a San José se extendió enormemente gracias a la influencia de la figura de San Bernardino de Siena\, así como a partir del año 1420 gracias al canciller de Notre Dame en París\, que elevó el deseo de crear una fiesta oficial dedicada a San José. \nEn ese momento\, ya había otras fiestas dedicadas a San José en ciudades como Milán o en varias partes de Alemania\, pero la oficialización de esta fiesta se dio en el año 1480 por parte del papa Sixto IV\, cuando aprobó el 19 de marzo como la fiesta en honor a San José. \n\n\n\nYa en el año 1621\, con el Papa Gregorio XV\, la festividad se convirtió en obligatoria y\, en 1870\, Pío IX declaró a San José patrón de la Iglesia universal. \n\n\n\nEn la historia reciente\, el papa Francisco añadió en el año 2021 un total de siete nuevas invocaciones a las Letanías en honor de San José\, que son las siguientes: \n\n\nCustodio del Redentor\nServidor de Cristo\nMinistro de la salvación\nApoyo en las dificultades\nPatrono de los exiliados\nPatrono de los afligidos\nPatrono de los pobres\n\nRecursos para trabajar en el aula:\nMás de 30 recursos para trabajar el día del padre y S. José\n\nEn esta web encontrarás bastantes recursos para trabajar San José en el aula. Cliquea aquí.\nÁlbum de imágenes — CLICK AQUÍ\nVíacrucis con San José — CLICK AQUÍ\nRompecabezas — CLICK AQUÍ\nPara pintar — CLICK AQUÍ\nJuego de la memoria — CLICK AQUÍ\nDiferencias — CLICK AQUÍ\nOtros recursos: https://catequesis.archimadrid.es/recursos-para-la-catequesis-que-ayudan-a-ahondar-en-la-figura-de-san-jose/\nRecursos para el día de San José\nEspecial San José\n\n 
URL:https://www.religionyescuela.com/evento/dia-del-padre-san-jose/
CATEGORIES:Santoral
ATTACH;FMTTYPE=image/png:https://www.religionyescuela.com/wp-content/uploads/2024/02/Captura-de-pantalla-2021-03-02-a-las-11.01.401.png
END:VEVENT
END:VCALENDAR